BEGIN:VCALENDAR
VERSION:2.0
PRODID:-//Alabama Writers&#039; Forum - ECPv6.15.20//NONSGML v1.0//EN
CALSCALE:GREGORIAN
METHOD:PUBLISH
X-ORIGINAL-URL:https://writersforum.org
X-WR-CALDESC:Events for Alabama Writers&#039; Forum
REFRESH-INTERVAL;VALUE=DURATION:PT1H
X-Robots-Tag:noindex
X-PUBLISHED-TTL:PT1H
BEGIN:VTIMEZONE
TZID:America/Chicago
BEGIN:DAYLIGHT
TZOFFSETFROM:-0600
TZOFFSETTO:-0500
TZNAME:CDT
DTSTART:20230312T080000
END:DAYLIGHT
BEGIN:STANDARD
TZOFFSETFROM:-0500
TZOFFSETTO:-0600
TZNAME:CST
DTSTART:20231105T070000
END:STANDARD
BEGIN:DAYLIGHT
TZOFFSETFROM:-0600
TZOFFSETTO:-0500
TZNAME:CDT
DTSTART:20240310T080000
END:DAYLIGHT
BEGIN:STANDARD
TZOFFSETFROM:-0500
TZOFFSETTO:-0600
TZNAME:CST
DTSTART:20241103T070000
END:STANDARD
BEGIN:DAYLIGHT
TZOFFSETFROM:-0600
TZOFFSETTO:-0500
TZNAME:CDT
DTSTART:20250309T080000
END:DAYLIGHT
BEGIN:STANDARD
TZOFFSETFROM:-0500
TZOFFSETTO:-0600
TZNAME:CST
DTSTART:20251102T070000
END:STANDARD
BEGIN:DAYLIGHT
TZOFFSETFROM:-0600
TZOFFSETTO:-0500
TZNAME:CDT
DTSTART:20260308T080000
END:DAYLIGHT
BEGIN:STANDARD
TZOFFSETFROM:-0500
TZOFFSETTO:-0600
TZNAME:CST
DTSTART:20261101T070000
END:STANDARD
END:VTIMEZONE
BEGIN:VEVENT
DTSTART;TZID=America/Chicago:20250426T130000
DTEND;TZID=America/Chicago:20250426T150000
DTSTAMP:20260419T180310
CREATED:20250408T161532Z
LAST-MODIFIED:20250408T162327Z
UID:10001608-1745672400-1745679600@writersforum.org
SUMMARY:The Magic City Poetry Festival Presents Poetry at the Monument
DESCRIPTION:Poetry at the Monument\, sponsored by the Alabama State Council on the Arts\, will feature Kamina Perdue\, Jamil Glenn\, and Tmbuk2 da poet!\n\n\n\n\n\n\n\n\nBy Magic City Poetry Festival\n\n\n\n\n\n\n\n\n\n\n\n\n\n\nSaturday\, April 26 · 1 – 3pm CDT \nSt Paul United Methodist Church \n\n\n\n\n\n\n\n\n\n\n\n\n\n\n1500 6th Avenue North Birmingham\, AL 35203 \nShow map\n\n\n\n\n\n\n\n\n\n\n\n\n\n\n\n\n\n\nPoetry at the Monument\, sponsored by the Alabama State Council on the Arts\, will feature Kamina Perdue\, Jamil Glenn\, and Tmbuk2 da poet\, who will share work related to civil rights and social justice. \nArrive at 1pm for the poetry tour!
URL:https://writersforum.org/event/the-magic-city-poetry-festival-presents-poetry-at-the-monument/
LOCATION:St. Paul UMC\, 1500 6th Avenue North\, Birmingham\, AL\, 35203\, United States
ATTACH;FMTTYPE=image/jpeg:https://writersforum.org/wp-content/uploads/2025/04/Poetry.at_.the_.Monument.jpeg
END:VEVENT
BEGIN:VEVENT
DTSTART;TZID=America/Chicago:20240427T140000
DTEND;TZID=America/Chicago:20240427T160000
DTSTAMP:20260419T180310
CREATED:20240401T214644Z
LAST-MODIFIED:20240401T214930Z
UID:10000287-1714226400-1714233600@writersforum.org
SUMMARY:Magic City Poetry Festival: Poetry at the Monument
DESCRIPTION:Each year\, MCPF brings poetry alive in unlikely places like public parks and national monuments\, and this year we will reprise our popular Poetry at the Monument event\, featuring poets Jermaine Thompson\, Tania De’Shawn\, and Lakisha Cargill on Saturday\, April 27\, 2-4 p.m.\, at the St. Paul’s UMC\, 1500 6th Avenue North\, Birmingham\, Alabama. \nPoetry at the Monument\, sponsored by the Alabama State Council on the Arts and hosted at the Birmingham Civil Rights National Monument\, will feature these three local poets who will share work related to civil rights and social justice. \n\n\n\n\n\nREGISTER HERE
URL:https://writersforum.org/event/magic-city-poetry-festival-poetry-at-the-monument/
LOCATION:St. Paul UMC\, 1500 6th Avenue North\, Birmingham\, AL\, 35203\, United States
ATTACH;FMTTYPE=image/png:https://writersforum.org/wp-content/uploads/2024/04/poetryatthemonument20243.png
END:VEVENT
END:VCALENDAR