BEGIN:VCALENDAR
VERSION:2.0
PRODID:-//Alabama Writers&#039; Forum - ECPv6.15.20//NONSGML v1.0//EN
CALSCALE:GREGORIAN
METHOD:PUBLISH
X-WR-CALNAME:Alabama Writers&#039; Forum
X-ORIGINAL-URL:https://writersforum.org
X-WR-CALDESC:Events for Alabama Writers&#039; Forum
REFRESH-INTERVAL;VALUE=DURATION:PT1H
X-Robots-Tag:noindex
X-PUBLISHED-TTL:PT1H
BEGIN:VTIMEZONE
TZID:America/Chicago
BEGIN:DAYLIGHT
TZOFFSETFROM:-0600
TZOFFSETTO:-0500
TZNAME:CDT
DTSTART:20230312T080000
END:DAYLIGHT
BEGIN:STANDARD
TZOFFSETFROM:-0500
TZOFFSETTO:-0600
TZNAME:CST
DTSTART:20231105T070000
END:STANDARD
BEGIN:DAYLIGHT
TZOFFSETFROM:-0600
TZOFFSETTO:-0500
TZNAME:CDT
DTSTART:20240310T080000
END:DAYLIGHT
BEGIN:STANDARD
TZOFFSETFROM:-0500
TZOFFSETTO:-0600
TZNAME:CST
DTSTART:20241103T070000
END:STANDARD
BEGIN:DAYLIGHT
TZOFFSETFROM:-0600
TZOFFSETTO:-0500
TZNAME:CDT
DTSTART:20250309T080000
END:DAYLIGHT
BEGIN:STANDARD
TZOFFSETFROM:-0500
TZOFFSETTO:-0600
TZNAME:CST
DTSTART:20251102T070000
END:STANDARD
END:VTIMEZONE
BEGIN:VEVENT
DTSTART;TZID=America/Chicago:20240801T160000
DTEND;TZID=America/Chicago:20240801T173000
DTSTAMP:20260420T101921
CREATED:20240625T191921Z
LAST-MODIFIED:20240625T191921Z
UID:10000333-1722528000-1722533400@writersforum.org
SUMMARY:Nancy Owen Nelson and Harry Moore at Pebble Hill
DESCRIPTION:Join poet Nancy Owen Nelson and author Harry Moore for a reading at Auburn University’s Pebble Hill. \nNancy Owen Nelson earned her BA from Birmingham-Southern and her MA and PhD from Auburn University. Her poems have been published in The South Dakota Review\, Graffiti Rag\, What Wildness is This: Women Write About the Southwest\, The MacGuffin\, A Cloud of Possibility\, Oberon\, and This/That/Lit online journal. Published books include her memoirs\, Searching for Nannie B: Connecting Three Generations of Southern Women (2015) and Divine Aphasia: A Woman’s Search for Her Father (2021); her poetry chapbook\, My Heart Wears No Colors (2018); and her poetry book\,Portals: A Memoir in Verse (2019). In 2019\, her poem “Africatown\,” was awarded second place for free verse in the Alabama Writers Conclave competition. \nRecipient of the 2014 Writers Exchange Award from Poets & Writers\, Harry Moore is the author of the poetry collection Bearing the Farm Away (Kelsay Books\, 2018) and four chapbooks: What He Would Call Them(Finishing Line Press\, 2013); Time’s Fool: Love Poems (Mule on a Ferris Wheel Press\, Huntsville\, AL\, 2014); Retreat: A Way Forward(Finishing Line Press\, 2017); and Beyond Paradise: The Unweeded Garden (Main Street Rag\, 2020). His poems have appeared or are forthcoming in Sow’s Ear Poetry Review\, Plainsongs\, Xavier Review\, Pudding Magazine\, Main Street Rag\, South Carolina Review\, Blue Unicorn\, Slipstream\, Anglican Theological Review\, Ponder Review\, and other journals.
URL:https://writersforum.org/event/nancy-owen-nelson-and-harry-moore-at-pebble-hill/
LOCATION:Pebble Hill\, 101 S. Debardeleben St.\, Auburn\, AL\, 36830\, United States
END:VEVENT
END:VCALENDAR