BEGIN:VCALENDAR
VERSION:2.0
PRODID:-//Alabama Writers&#039; Forum - ECPv6.15.20//NONSGML v1.0//EN
CALSCALE:GREGORIAN
METHOD:PUBLISH
X-WR-CALNAME:Alabama Writers&#039; Forum
X-ORIGINAL-URL:https://writersforum.org
X-WR-CALDESC:Events for Alabama Writers&#039; Forum
REFRESH-INTERVAL;VALUE=DURATION:PT1H
X-Robots-Tag:noindex
X-PUBLISHED-TTL:PT1H
BEGIN:VTIMEZONE
TZID:America/Chicago
BEGIN:DAYLIGHT
TZOFFSETFROM:-0600
TZOFFSETTO:-0500
TZNAME:CDT
DTSTART:20220313T080000
END:DAYLIGHT
BEGIN:STANDARD
TZOFFSETFROM:-0500
TZOFFSETTO:-0600
TZNAME:CST
DTSTART:20221106T070000
END:STANDARD
BEGIN:DAYLIGHT
TZOFFSETFROM:-0600
TZOFFSETTO:-0500
TZNAME:CDT
DTSTART:20230312T080000
END:DAYLIGHT
BEGIN:STANDARD
TZOFFSETFROM:-0500
TZOFFSETTO:-0600
TZNAME:CST
DTSTART:20231105T070000
END:STANDARD
BEGIN:DAYLIGHT
TZOFFSETFROM:-0600
TZOFFSETTO:-0500
TZNAME:CDT
DTSTART:20240310T080000
END:DAYLIGHT
BEGIN:STANDARD
TZOFFSETFROM:-0500
TZOFFSETTO:-0600
TZNAME:CST
DTSTART:20241103T070000
END:STANDARD
END:VTIMEZONE
BEGIN:VEVENT
DTSTART;VALUE=DATE:20230410
DTEND;VALUE=DATE:20230501
DTSTAMP:20260422T085823
CREATED:20230411T150151Z
LAST-MODIFIED:20230411T150151Z
UID:10000063-1681084800-1682899199@writersforum.org
SUMMARY:Sunspot Lit Open Call for Fiction\, NF\, Poetry\, Scripts\, and Graphic Novels
DESCRIPTION:Sunspot Lit welcomes art and fiction\, nonfiction\, poetry\, scripts\, and graphic novels from 4 words to 49\,000 words. Editor’s prizes are paid out for each edition; cover art is also paid. A Fast Flux option offers a speedy turnaround. Feedback for poems and genre fiction is available. Send the journal your work through Submittable: https://sunspotlit.submittable.com/submit or Duotrope: https://duotrope.com/listing/27249/sunspot-literary-journal.
URL:https://writersforum.org/event/sunspot-lit-open-call-for-fiction-nf-poetry-scripts-and-graphic-novels/
LOCATION:Online\, NC
ORGANIZER;CN="Sunspot Literary Journal":MAILTO:SunspotLit@gmail.com
END:VEVENT
BEGIN:VEVENT
DTSTART;VALUE=DATE:20230301
DTEND;VALUE=DATE:20230401
DTSTAMP:20260422T085823
CREATED:20230301T203428Z
LAST-MODIFIED:20230301T203428Z
UID:10000047-1677628800-1680307199@writersforum.org
SUMMARY:Geminga: $500 for Fiction\, CNF\, Poetry\, Graphic Novel or Art ends soon
DESCRIPTION:Sunspot Lit’s Geminga contest honors the power of the small. Authors and artists can view the guidelines and enter via Submittable: https://sunspotlit.submittable.com/submit/246999/geminga-2023-500-for-tiny-prose-poetry-graphic-novels-or-art or Duotrope: https://duotrope.com/listing/31906/geminga-contest-tiny-fiction.
URL:https://writersforum.org/event/geminga-500-for-fiction-cnf-poetry-graphic-novel-or-art-ends-soon/
LOCATION:Online\, NC
ORGANIZER;CN="Sunspot Literary Journal":MAILTO:SunspotLit@gmail.com
END:VEVENT
BEGIN:VEVENT
DTSTART;VALUE=DATE:20230224
DTEND;VALUE=DATE:20230401
DTSTAMP:20260422T085823
CREATED:20230227T163207Z
LAST-MODIFIED:20230227T163207Z
UID:10000046-1677196800-1680307199@writersforum.org
SUMMARY:Open calls for writers and artists closing in March
DESCRIPTION:Sunspot Lit’s calls for longform\, standard length\, and flash fiction\, CNF\, graphic novels and poetry are closing in March. Detailed guidelines on the submission forms at Submittable: https://sunspotlit.submittable.com/submit or Duotrope: https://duotrope.com/duosuma/submit/sunspot-literary-journal-LIXJW.
URL:https://writersforum.org/event/open-calls-for-writers-and-artists-closing-in-march/
LOCATION:Online\, NC
ORGANIZER;CN="Sunspot Literary Journal":MAILTO:SunspotLit@gmail.com
END:VEVENT
BEGIN:VEVENT
DTSTART;VALUE=DATE:20230131
DTEND;VALUE=DATE:20230301
DTSTAMP:20260422T085823
CREATED:20230131T165744Z
LAST-MODIFIED:20230131T165744Z
UID:10000027-1675123200-1677628799@writersforum.org
SUMMARY:Open calls closing in February
DESCRIPTION:Sunspot Lit’s calls for novelette-length and very longform fiction\, CNF\, graphic novels and poetry are closing in February. The Supernova category takes works from 7\,501 words to 17\,500\, while the novelette call takes works up to 49\,000 words. Detailed guidelines on the submission forms at Submittable: https://sunspotlit.submittable.com/submit or Duotrope: https://duotrope.com/duosuma/submit/sunspot-literary-journal-LIXJW.
URL:https://writersforum.org/event/open-calls-closing-in-february/
LOCATION:Online\, NC
ORGANIZER;CN="Sunspot Literary Journal":MAILTO:SunspotLit@gmail.com
END:VEVENT
END:VCALENDAR