BEGIN:VCALENDAR
VERSION:2.0
PRODID:-//Alabama Writers&#039; Forum - ECPv6.15.20//NONSGML v1.0//EN
CALSCALE:GREGORIAN
METHOD:PUBLISH
X-ORIGINAL-URL:https://writersforum.org
X-WR-CALDESC:Events for Alabama Writers&#039; Forum
REFRESH-INTERVAL;VALUE=DURATION:PT1H
X-Robots-Tag:noindex
X-PUBLISHED-TTL:PT1H
BEGIN:VTIMEZONE
TZID:America/Chicago
BEGIN:DAYLIGHT
TZOFFSETFROM:-0600
TZOFFSETTO:-0500
TZNAME:CDT
DTSTART:20250309T080000
END:DAYLIGHT
BEGIN:STANDARD
TZOFFSETFROM:-0500
TZOFFSETTO:-0600
TZNAME:CST
DTSTART:20251102T070000
END:STANDARD
BEGIN:DAYLIGHT
TZOFFSETFROM:-0600
TZOFFSETTO:-0500
TZNAME:CDT
DTSTART:20260308T080000
END:DAYLIGHT
BEGIN:STANDARD
TZOFFSETFROM:-0500
TZOFFSETTO:-0600
TZNAME:CST
DTSTART:20261101T070000
END:STANDARD
BEGIN:DAYLIGHT
TZOFFSETFROM:-0600
TZOFFSETTO:-0500
TZNAME:CDT
DTSTART:20270314T080000
END:DAYLIGHT
BEGIN:STANDARD
TZOFFSETFROM:-0500
TZOFFSETTO:-0600
TZNAME:CST
DTSTART:20271107T070000
END:STANDARD
END:VTIMEZONE
BEGIN:VEVENT
DTSTART;VALUE=DATE:20260331
DTEND;VALUE=DATE:20260501
DTSTAMP:20260421T202005
CREATED:20260317T165418Z
LAST-MODIFIED:20260317T165418Z
UID:10001817-1774998000-1777589999@writersforum.org
SUMMARY:Novella-length Fiction and Nonfiction
DESCRIPTION:For a limited time\, Sunspot Lit is calling for single works of novella-length fiction or nonfiction in any category\, including memoir\, literary\, genre\, and historical. Open April 1 through April 30. See guidelines and submission form\, along with the journal’s other open calls (including art)\, here: https://sunspotlit.submittable.com/submit.
URL:https://writersforum.org/event/novella-length-fiction-and-nonfiction/
LOCATION:Online\, NC
ATTACH;FMTTYPE=image/jpeg:https://writersforum.org/wp-content/uploads/2026/03/Sunspot.jpg
ORGANIZER;CN="Sunspot Literary Journal":MAILTO:SunspotLit@gmail.com
END:VEVENT
END:VCALENDAR