BEGIN:VCALENDAR
VERSION:2.0
PRODID:-//Alabama Writers&#039; Forum - ECPv6.15.20//NONSGML v1.0//EN
CALSCALE:GREGORIAN
METHOD:PUBLISH
X-ORIGINAL-URL:https://writersforum.org
X-WR-CALDESC:Events for Alabama Writers&#039; Forum
REFRESH-INTERVAL;VALUE=DURATION:PT1H
X-Robots-Tag:noindex
X-PUBLISHED-TTL:PT1H
BEGIN:VTIMEZONE
TZID:America/Chicago
BEGIN:DAYLIGHT
TZOFFSETFROM:-0600
TZOFFSETTO:-0500
TZNAME:CDT
DTSTART:20220313T080000
END:DAYLIGHT
BEGIN:STANDARD
TZOFFSETFROM:-0500
TZOFFSETTO:-0600
TZNAME:CST
DTSTART:20221106T070000
END:STANDARD
BEGIN:DAYLIGHT
TZOFFSETFROM:-0600
TZOFFSETTO:-0500
TZNAME:CDT
DTSTART:20230312T080000
END:DAYLIGHT
BEGIN:STANDARD
TZOFFSETFROM:-0500
TZOFFSETTO:-0600
TZNAME:CST
DTSTART:20231105T070000
END:STANDARD
BEGIN:DAYLIGHT
TZOFFSETFROM:-0600
TZOFFSETTO:-0500
TZNAME:CDT
DTSTART:20240310T080000
END:DAYLIGHT
BEGIN:STANDARD
TZOFFSETFROM:-0500
TZOFFSETTO:-0600
TZNAME:CST
DTSTART:20241103T070000
END:STANDARD
END:VTIMEZONE
BEGIN:VEVENT
DTSTART;TZID=America/Chicago:20230518T173000
DTEND;TZID=America/Chicago:20230518T193000
DTSTAMP:20260425T071526
CREATED:20230322T212657Z
LAST-MODIFIED:20230322T212657Z
UID:10000058-1684431000-1684438200@writersforum.org
SUMMARY:An Evening with Patti Callahan Henry at Ernest & Hadley Booksellers
DESCRIPTION:Ernest & Hadley Booksellers will host an intimate evening with critically acclaimed\, bestselling author\, Patti Callahan Henry\, in conversation with Don Noble\, Thursday\, May 18\, 2023\, from 5:30 until 7:30 PM. Ms. Henry will introduce and discuss her latest triumph in historical fiction: The Secret Book of Flora Lea. Advance tickets are required for this event! Priority Admission includes a signed copy of the featured book\, whereas General Admission is to simply attend the event (seating is limited.) This event is HYBRID\, presented both in-person and virtually\, in conjunction with the E&H [OPEN] Book Club. If you would like to attend virtually (for free!)\, DO NOT PURCHASE A TICKET. Simply register in advance on Zoom by clicking here: \nhttps://www.ernestandhadleybooks.com/event/evening-patti-callahan-henry \nA registered account is required\, so you must create a Zoom account if you have not already done so\, and/or login. Virtual participates will not need a webcam for this event\, but may participate through audio and/or chat.
URL:https://writersforum.org/event/an-evening-with-patti-callahan-henry-at-ernest-hadley-booksellers/
LOCATION:Ernest & Hadley Booksellers\, 1928 7th St\, Tuscaloosa\, AL\, 35401
ORGANIZER;CN="Ernest &amp%3B Hadley Booksellers":MAILTO:avery@ernestandhadleybooks.com
END:VEVENT
END:VCALENDAR