BEGIN:VCALENDAR
VERSION:2.0
PRODID:-//Alabama Writers&#039; Forum - ECPv6.15.20//NONSGML v1.0//EN
CALSCALE:GREGORIAN
METHOD:PUBLISH
X-ORIGINAL-URL:https://writersforum.org
X-WR-CALDESC:Events for Alabama Writers&#039; Forum
REFRESH-INTERVAL;VALUE=DURATION:PT1H
X-Robots-Tag:noindex
X-PUBLISHED-TTL:PT1H
BEGIN:VTIMEZONE
TZID:America/Chicago
BEGIN:DAYLIGHT
TZOFFSETFROM:-0600
TZOFFSETTO:-0500
TZNAME:CDT
DTSTART:20230312T080000
END:DAYLIGHT
BEGIN:STANDARD
TZOFFSETFROM:-0500
TZOFFSETTO:-0600
TZNAME:CST
DTSTART:20231105T070000
END:STANDARD
BEGIN:DAYLIGHT
TZOFFSETFROM:-0600
TZOFFSETTO:-0500
TZNAME:CDT
DTSTART:20240310T080000
END:DAYLIGHT
BEGIN:STANDARD
TZOFFSETFROM:-0500
TZOFFSETTO:-0600
TZNAME:CST
DTSTART:20241103T070000
END:STANDARD
BEGIN:DAYLIGHT
TZOFFSETFROM:-0600
TZOFFSETTO:-0500
TZNAME:CDT
DTSTART:20250309T080000
END:DAYLIGHT
BEGIN:STANDARD
TZOFFSETFROM:-0500
TZOFFSETTO:-0600
TZNAME:CST
DTSTART:20251102T070000
END:STANDARD
END:VTIMEZONE
BEGIN:VEVENT
DTSTART;TZID=America/Chicago:20240117T173000
DTEND;TZID=America/Chicago:20240117T183000
DTSTAMP:20260424T002808
CREATED:20240109T193946Z
LAST-MODIFIED:20240109T193946Z
UID:10000215-1705512600-1705516200@writersforum.org
SUMMARY:Alexander Heffner Book Talk: "A Documentary History of the United States."
DESCRIPTION:Join Alabama Humanities Alliance on January 17 for a book talk and book-signing event with journalist and civic educator Alexander Heffner. Presented by the Alabama Humanities Alliance in partnership with our friends at the David Mathews Center for Civic Life.\nHeffner is the host of PBS’ “The Open Mind” and “Breaking Bread with Alexander\,” seen on Bloomberg TV. He is also co-editor of “A Documentary History of the United States\,” a fascinating collection\, and interpretation\, of documents that have forged American history.\nThe book — first published in 1952 by Heffner’s grandfather\, the late historian Richard D. Heffner — has been updated by Alexander to include more recent history. The book includes everything from America’s founding documents\, Supreme Court decisions\, and inaugural addresses to era-defining speeches\, letters\, poems\, debates\, and even…tweets.
URL:https://writersforum.org/event/alexander-heffner-book-talk-a-documentary-history-of-the-united-states/
LOCATION:Barnes & Noble at the Summit\, 201 Summit Boulevard Suite 100\, Birmingham\, AL\, 35243\, United States
ATTACH;FMTTYPE=image/jpeg:https://writersforum.org/wp-content/uploads/2024/01/414949419_674036261597303_6915116243058315294_n.jpg
ORGANIZER;CN="Alabama Humanities Alliance":MAILTO:isnider@alabamahumanities.org
END:VEVENT
END:VCALENDAR