BEGIN:VCALENDAR
VERSION:2.0
PRODID:-//Alabama Writers&#039; Forum - ECPv6.15.20//NONSGML v1.0//EN
CALSCALE:GREGORIAN
METHOD:PUBLISH
X-ORIGINAL-URL:https://writersforum.org
X-WR-CALDESC:Events for Alabama Writers&#039; Forum
REFRESH-INTERVAL;VALUE=DURATION:PT1H
X-Robots-Tag:noindex
X-PUBLISHED-TTL:PT1H
BEGIN:VTIMEZONE
TZID:America/Chicago
BEGIN:DAYLIGHT
TZOFFSETFROM:-0600
TZOFFSETTO:-0500
TZNAME:CDT
DTSTART:20250309T080000
END:DAYLIGHT
BEGIN:STANDARD
TZOFFSETFROM:-0500
TZOFFSETTO:-0600
TZNAME:CST
DTSTART:20251102T070000
END:STANDARD
BEGIN:DAYLIGHT
TZOFFSETFROM:-0600
TZOFFSETTO:-0500
TZNAME:CDT
DTSTART:20260308T080000
END:DAYLIGHT
BEGIN:STANDARD
TZOFFSETFROM:-0500
TZOFFSETTO:-0600
TZNAME:CST
DTSTART:20261101T070000
END:STANDARD
BEGIN:DAYLIGHT
TZOFFSETFROM:-0600
TZOFFSETTO:-0500
TZNAME:CDT
DTSTART:20270314T080000
END:DAYLIGHT
BEGIN:STANDARD
TZOFFSETFROM:-0500
TZOFFSETTO:-0600
TZNAME:CST
DTSTART:20271107T070000
END:STANDARD
BEGIN:DAYLIGHT
TZOFFSETFROM:-0600
TZOFFSETTO:-0500
TZNAME:CDT
DTSTART:20280312T080000
END:DAYLIGHT
BEGIN:STANDARD
TZOFFSETFROM:-0500
TZOFFSETTO:-0600
TZNAME:CST
DTSTART:20281105T070000
END:STANDARD
END:VTIMEZONE
BEGIN:VEVENT
DTSTART;VALUE=DATE:20260227
DTEND;VALUE=DATE:20270213
DTSTAMP:20260419T184612
CREATED:20240812T155858Z
LAST-MODIFIED:20260407T015014Z
UID:10000345-1772233200-1802473199@writersforum.org
SUMMARY:CALL FOR ENTRIES: 2027 Next Generation Indie Book Awards
DESCRIPTION:The Next Generation Indie Book Awards is the largest International awards program for indie authors and independent publishers. \nSubmissions accepted: Entries from independent publishers and authors worldwide who have a published book\, unpublished manuscript\, galley copy or Advanced Reader Copy written in English with a copyright/release date of 2025\, 2026\, or 2027.\nCategories: 80+\nEntry Fee: $80 for the first category entered and $65 for every additional category entered for the same title\nDeadline: Friday\, February 12\, 2027.\nWinners’ Prizes: Winners in each category are given $100 cash prizes\, gold medals\, complimentary stickers\, social media coverage\, website exposure\, possible representation by a leading literary agent\, and recognition as one of the top independently published books of the year. Three Grand Prize Winners will be selected from all entries received and will be awarded cash prizes of $1500\, $750 and $500 based on their order of win. All Winners are invited to attend the Indie Book Awards gala ceremony.\nFinalists’ Benefits: Winners in each category are given silver medals\, complimentary stickers\, social media coverage and website exposure. All Finalists are invited to attend the Indie Book Awards gala ceremony.\nEnter at: www.indiebookawards.com
URL:https://writersforum.org/event/call-for-entries-next-generation-indie-book-awards/
LOCATION:Online\, NC
ATTACH;FMTTYPE=image/png:https://writersforum.org/wp-content/uploads/2024/08/Indie-Book-Awards.png
ORGANIZER;CN="Next Generation Indie Book Awards":MAILTO:info@indiebookawards.com
END:VEVENT
BEGIN:VEVENT
DTSTART;VALUE=DATE:20260305
DTEND;VALUE=DATE:20270226
DTSTAMP:20260419T184612
CREATED:20231120T161401Z
LAST-MODIFIED:20260407T015533Z
UID:10000195-1772751600-1803596399@writersforum.org
SUMMARY:CALL FOR ENTRIES: 2027 Next Generation Short Story Awards
DESCRIPTION:The Next Generation Short Story Awards is a not-for-profit international awards program for authors of short stories. \nSubmissions accepted: Unpublished short stories and poems (5\,000 words or less)\nCategories: 30+\nDeadline: February 25\, 2027\nEntry Fees: $25 for the first category entered and $20 for every additional category entered for the same story\nWinners’ Prizes: Winners in each category receive $75 cash prizes\, gold medals\, digital promotional stickers\, social media coverage\, literary exposure\, story publication in an Anthology of Winners\, and a complimentary copy of the Anthology of Winners. Three Grand Prize Winners will be selected from all entries and awarded $500 for 1st Prize\, $300 for 2nd Prize and $200 for 3rd Prize and will be invited to attend the Next Generation Indie Book Awards gala ceremony.\nFinalists’ Benefits: Finalists in each category are awarded digital promotional stickers\, literary exposure\, social media coverage and have their name and title of story mentioned in the Anthology of Winners. A copy of the Anthology of Winners is available to purchase at half price and silver medals are available to order.\nEnter at: www.shortstoryawards.com
URL:https://writersforum.org/event/call-for-entries-next-generation-short-story-awards/
LOCATION:Online\, NC
ATTACH;FMTTYPE=image/jpeg:https://writersforum.org/wp-content/uploads/2023/11/Short-Story-Awards_7.27-JPEG.jpeg
ORGANIZER;CN="Next Generation Short Story Awards":MAILTO:info@shortstoryawards.com
END:VEVENT
BEGIN:VEVENT
DTSTART;TZID=America/Chicago:20260531T150000
DTEND;TZID=America/Chicago:20260531T163000
DTSTAMP:20260419T184612
CREATED:20260317T175659Z
LAST-MODIFIED:20260317T175659Z
UID:10001819-1780239600-1780245000@writersforum.org
SUMMARY:An afternoon of music with Thick Editions and guest Dylan Hawes-Glynn
DESCRIPTION:Kick off summer with some great sounds at The NewSouth Bookstore! On Sunday\, May 31 at 3pm we welcome Thick Editions\, a legendary local improv group starring Jeff McLeod\, Marshall Marrotte\, and Tracy Harris — on guitar\, bass\, and drums\, respectively — all longtime stalwarts of the underground Southeastern music scene. If you love music\, you will love the heady mixture of written and improvised stuff this group always concocts. Dylan Hawes-Glynn\, a multi-instrumentalist and composer from Nashville\, opens for them on vibraphone. Fun!
URL:https://writersforum.org/event/an-afternoon-of-music-with-thick-editions-and-guest-dylan-hawes-glynn/
LOCATION:The NewSouth Bookstore\, 105 S. Court St\, Montgomery\, 36104\, United States
ATTACH;FMTTYPE=image/png:https://writersforum.org/wp-content/uploads/2026/03/Thick-Editions-Square-Graphic.png
ORGANIZER;CN="The NewSouth Bookstore":MAILTO:gabbi.emerson@newsouthbookstore.com
END:VEVENT
BEGIN:VEVENT
DTSTART;TZID=America/Chicago:20260609T173000
DTEND;TZID=America/Chicago:20260609T190000
DTSTAMP:20260419T184612
CREATED:20260331T193440Z
LAST-MODIFIED:20260331T193440Z
UID:10001824-1781026200-1781031600@writersforum.org
SUMMARY:Patricia Smith with her National Book Award-Winning poetry collection\, The Intentions of Thunder
DESCRIPTION:We are honored to host Patricia Smith for a program at The NewSouth Bookstore\, a talk about and reading from her 2025 National Book Award-winning book\, The Intentions of Thunder. Smith is a poet\, spoken-word performer\, playwright\, author\, and writing teacher\, whose work has been called life-changing\, “abundant\, brilliant\, and unprecedented.” Don’t miss her Montgomery appearance!
URL:https://writersforum.org/event/patricia-smith-with-her-national-book-award-winning-poetry-collection-the-intentions-of-thunder/
LOCATION:The NewSouth Bookstore\, 105 S. Court St\, Montgomery\, 36104\, United States
ATTACH;FMTTYPE=image/png:https://writersforum.org/wp-content/uploads/2026/03/Patricia-Smith-Square-Graphic.png
ORGANIZER;CN="The NewSouth Bookstore":MAILTO:gabbi.emerson@newsouthbookstore.com
END:VEVENT
BEGIN:VEVENT
DTSTART;TZID=America/Chicago:20260622T183000
DTEND;TZID=America/Chicago:20260622T193000
DTSTAMP:20260419T184612
CREATED:20230921T153144Z
LAST-MODIFIED:20230921T153144Z
UID:10000150-1782153000-1782156600@writersforum.org
SUMMARY:Alabama State Poetry Society Online Open Mic
DESCRIPTION:Join us for online poetry open mics the 4th Monday of each month! \nhttps://us02web.zoom.us/j/85693609367\nMeeting ID: 856 9360 9367
URL:https://writersforum.org/event/alabama-state-poetry-society-online-open-mic/2026-06-22/
LOCATION:Zoom
ATTACH;FMTTYPE=image/png:https://writersforum.org/wp-content/uploads/2023/09/openmiczoom-1.png
ORGANIZER;CN="Alabama State Poetry Society":MAILTO:alabamapoets@gmail.com
END:VEVENT
BEGIN:VEVENT
DTSTART;TZID=America/Chicago:20260716T193000
DTEND;TZID=America/Chicago:20260716T220000
DTSTAMP:20260419T184612
CREATED:20250922T201737Z
LAST-MODIFIED:20251216T221417Z
UID:10001743-1784230200-1784239200@writersforum.org
SUMMARY:"Big Fish" at Bean-Brown Theatre\, Tuscaloosa
DESCRIPTION:Dive into a world of tall tales and heartfelt connections as a father and son navigate the complexities of family and the search for their own “home”. This enchanting musical set in Alabama celebrates the power of storytelling and the enduring bonds that tie us together. The 2003 movie version\, which was filmed in Alabama\, featured Albert Finney (33 years after Scrooge) as Edward Bloom (the elder).
URL:https://writersforum.org/event/big-fish-at-bean-brown-theatre-tuscaloosa/2026-07-16/
LOCATION:Bean- Brown Theatre\, 600 Greensboro Ave\, Tuscaloosa\, AL\, 35405\, United States
ATTACH;FMTTYPE=image/png:https://writersforum.org/wp-content/uploads/2025/09/Finding-Home-Web-Image_Big-Fish.png
ORGANIZER;CN="Theatre Tuscaloosa":MAILTO:tickets@theatretusc.com
END:VEVENT
BEGIN:VEVENT
DTSTART;TZID=America/Chicago:20260717T193000
DTEND;TZID=America/Chicago:20260717T220000
DTSTAMP:20260419T184612
CREATED:20250922T201737Z
LAST-MODIFIED:20251216T221417Z
UID:10001744-1784316600-1784325600@writersforum.org
SUMMARY:"Big Fish" at Bean-Brown Theatre\, Tuscaloosa
DESCRIPTION:Dive into a world of tall tales and heartfelt connections as a father and son navigate the complexities of family and the search for their own “home”. This enchanting musical set in Alabama celebrates the power of storytelling and the enduring bonds that tie us together. The 2003 movie version\, which was filmed in Alabama\, featured Albert Finney (33 years after Scrooge) as Edward Bloom (the elder).
URL:https://writersforum.org/event/big-fish-at-bean-brown-theatre-tuscaloosa/2026-07-17/
LOCATION:Bean- Brown Theatre\, 600 Greensboro Ave\, Tuscaloosa\, AL\, 35405\, United States
ATTACH;FMTTYPE=image/png:https://writersforum.org/wp-content/uploads/2025/09/Finding-Home-Web-Image_Big-Fish.png
ORGANIZER;CN="Theatre Tuscaloosa":MAILTO:tickets@theatretusc.com
END:VEVENT
BEGIN:VEVENT
DTSTART;TZID=America/Chicago:20260718T193000
DTEND;TZID=America/Chicago:20260718T220000
DTSTAMP:20260419T184612
CREATED:20250922T201737Z
LAST-MODIFIED:20251216T221417Z
UID:10001745-1784403000-1784412000@writersforum.org
SUMMARY:"Big Fish" at Bean-Brown Theatre\, Tuscaloosa
DESCRIPTION:Dive into a world of tall tales and heartfelt connections as a father and son navigate the complexities of family and the search for their own “home”. This enchanting musical set in Alabama celebrates the power of storytelling and the enduring bonds that tie us together. The 2003 movie version\, which was filmed in Alabama\, featured Albert Finney (33 years after Scrooge) as Edward Bloom (the elder).
URL:https://writersforum.org/event/big-fish-at-bean-brown-theatre-tuscaloosa/2026-07-18/
LOCATION:Bean- Brown Theatre\, 600 Greensboro Ave\, Tuscaloosa\, AL\, 35405\, United States
ATTACH;FMTTYPE=image/png:https://writersforum.org/wp-content/uploads/2025/09/Finding-Home-Web-Image_Big-Fish.png
ORGANIZER;CN="Theatre Tuscaloosa":MAILTO:tickets@theatretusc.com
END:VEVENT
BEGIN:VEVENT
DTSTART;TZID=America/Chicago:20260719T140000
DTEND;TZID=America/Chicago:20260719T163000
DTSTAMP:20260419T184612
CREATED:20250922T201737Z
LAST-MODIFIED:20251216T221417Z
UID:10001746-1784469600-1784478600@writersforum.org
SUMMARY:"Big Fish" at Bean-Brown Theatre\, Tuscaloosa
DESCRIPTION:Dive into a world of tall tales and heartfelt connections as a father and son navigate the complexities of family and the search for their own “home”. This enchanting musical set in Alabama celebrates the power of storytelling and the enduring bonds that tie us together. The 2003 movie version\, which was filmed in Alabama\, featured Albert Finney (33 years after Scrooge) as Edward Bloom (the elder).
URL:https://writersforum.org/event/big-fish-at-bean-brown-theatre-tuscaloosa/2026-07-19/
LOCATION:Bean- Brown Theatre\, 600 Greensboro Ave\, Tuscaloosa\, AL\, 35405\, United States
ATTACH;FMTTYPE=image/png:https://writersforum.org/wp-content/uploads/2025/09/Finding-Home-Web-Image_Big-Fish.png
ORGANIZER;CN="Theatre Tuscaloosa":MAILTO:tickets@theatretusc.com
END:VEVENT
BEGIN:VEVENT
DTSTART;TZID=America/Chicago:20260722T140000
DTEND;TZID=America/Chicago:20260722T163000
DTSTAMP:20260419T184612
CREATED:20250922T201737Z
LAST-MODIFIED:20251216T221417Z
UID:10001747-1784728800-1784737800@writersforum.org
SUMMARY:"Big Fish" at Bean-Brown Theatre\, Tuscaloosa
DESCRIPTION:Dive into a world of tall tales and heartfelt connections as a father and son navigate the complexities of family and the search for their own “home”. This enchanting musical set in Alabama celebrates the power of storytelling and the enduring bonds that tie us together. The 2003 movie version\, which was filmed in Alabama\, featured Albert Finney (33 years after Scrooge) as Edward Bloom (the elder).
URL:https://writersforum.org/event/big-fish-at-bean-brown-theatre-tuscaloosa/2026-07-22/
LOCATION:Bean- Brown Theatre\, 600 Greensboro Ave\, Tuscaloosa\, AL\, 35405\, United States
ATTACH;FMTTYPE=image/png:https://writersforum.org/wp-content/uploads/2025/09/Finding-Home-Web-Image_Big-Fish.png
ORGANIZER;CN="Theatre Tuscaloosa":MAILTO:tickets@theatretusc.com
END:VEVENT
BEGIN:VEVENT
DTSTART;TZID=America/Chicago:20260723T193000
DTEND;TZID=America/Chicago:20260723T220000
DTSTAMP:20260419T184612
CREATED:20250922T201737Z
LAST-MODIFIED:20251216T221417Z
UID:10001748-1784835000-1784844000@writersforum.org
SUMMARY:"Big Fish" at Bean-Brown Theatre\, Tuscaloosa
DESCRIPTION:Dive into a world of tall tales and heartfelt connections as a father and son navigate the complexities of family and the search for their own “home”. This enchanting musical set in Alabama celebrates the power of storytelling and the enduring bonds that tie us together. The 2003 movie version\, which was filmed in Alabama\, featured Albert Finney (33 years after Scrooge) as Edward Bloom (the elder).
URL:https://writersforum.org/event/big-fish-at-bean-brown-theatre-tuscaloosa/2026-07-23/
LOCATION:Bean- Brown Theatre\, 600 Greensboro Ave\, Tuscaloosa\, AL\, 35405\, United States
ATTACH;FMTTYPE=image/png:https://writersforum.org/wp-content/uploads/2025/09/Finding-Home-Web-Image_Big-Fish.png
ORGANIZER;CN="Theatre Tuscaloosa":MAILTO:tickets@theatretusc.com
END:VEVENT
BEGIN:VEVENT
DTSTART;TZID=America/Chicago:20260724T193000
DTEND;TZID=America/Chicago:20260724T220000
DTSTAMP:20260419T184612
CREATED:20250922T201737Z
LAST-MODIFIED:20251216T221417Z
UID:10001749-1784921400-1784930400@writersforum.org
SUMMARY:"Big Fish" at Bean-Brown Theatre\, Tuscaloosa
DESCRIPTION:Dive into a world of tall tales and heartfelt connections as a father and son navigate the complexities of family and the search for their own “home”. This enchanting musical set in Alabama celebrates the power of storytelling and the enduring bonds that tie us together. The 2003 movie version\, which was filmed in Alabama\, featured Albert Finney (33 years after Scrooge) as Edward Bloom (the elder).
URL:https://writersforum.org/event/big-fish-at-bean-brown-theatre-tuscaloosa/2026-07-24/
LOCATION:Bean- Brown Theatre\, 600 Greensboro Ave\, Tuscaloosa\, AL\, 35405\, United States
ATTACH;FMTTYPE=image/png:https://writersforum.org/wp-content/uploads/2025/09/Finding-Home-Web-Image_Big-Fish.png
ORGANIZER;CN="Theatre Tuscaloosa":MAILTO:tickets@theatretusc.com
END:VEVENT
BEGIN:VEVENT
DTSTART;TZID=America/Chicago:20260725T140000
DTEND;TZID=America/Chicago:20260725T163000
DTSTAMP:20260419T184612
CREATED:20250922T201737Z
LAST-MODIFIED:20251216T221417Z
UID:10001750-1784988000-1784997000@writersforum.org
SUMMARY:"Big Fish" at Bean-Brown Theatre\, Tuscaloosa
DESCRIPTION:Dive into a world of tall tales and heartfelt connections as a father and son navigate the complexities of family and the search for their own “home”. This enchanting musical set in Alabama celebrates the power of storytelling and the enduring bonds that tie us together. The 2003 movie version\, which was filmed in Alabama\, featured Albert Finney (33 years after Scrooge) as Edward Bloom (the elder).
URL:https://writersforum.org/event/big-fish-at-bean-brown-theatre-tuscaloosa/2026-07-25/
LOCATION:Bean- Brown Theatre\, 600 Greensboro Ave\, Tuscaloosa\, AL\, 35405\, United States
ATTACH;FMTTYPE=image/png:https://writersforum.org/wp-content/uploads/2025/09/Finding-Home-Web-Image_Big-Fish.png
ORGANIZER;CN="Theatre Tuscaloosa":MAILTO:tickets@theatretusc.com
END:VEVENT
BEGIN:VEVENT
DTSTART;TZID=America/Chicago:20260726T140000
DTEND;TZID=America/Chicago:20260726T163000
DTSTAMP:20260419T184612
CREATED:20250922T201737Z
LAST-MODIFIED:20251216T221417Z
UID:10001751-1785074400-1785083400@writersforum.org
SUMMARY:"Big Fish" at Bean-Brown Theatre\, Tuscaloosa
DESCRIPTION:Dive into a world of tall tales and heartfelt connections as a father and son navigate the complexities of family and the search for their own “home”. This enchanting musical set in Alabama celebrates the power of storytelling and the enduring bonds that tie us together. The 2003 movie version\, which was filmed in Alabama\, featured Albert Finney (33 years after Scrooge) as Edward Bloom (the elder).
URL:https://writersforum.org/event/big-fish-at-bean-brown-theatre-tuscaloosa/2026-07-26/
LOCATION:Bean- Brown Theatre\, 600 Greensboro Ave\, Tuscaloosa\, AL\, 35405\, United States
ATTACH;FMTTYPE=image/png:https://writersforum.org/wp-content/uploads/2025/09/Finding-Home-Web-Image_Big-Fish.png
ORGANIZER;CN="Theatre Tuscaloosa":MAILTO:tickets@theatretusc.com
END:VEVENT
BEGIN:VEVENT
DTSTART;TZID=America/Chicago:20260727T183000
DTEND;TZID=America/Chicago:20260727T193000
DTSTAMP:20260419T184612
CREATED:20230921T153144Z
LAST-MODIFIED:20230921T153144Z
UID:10000151-1785177000-1785180600@writersforum.org
SUMMARY:Alabama State Poetry Society Online Open Mic
DESCRIPTION:Join us for online poetry open mics the 4th Monday of each month! \nhttps://us02web.zoom.us/j/85693609367\nMeeting ID: 856 9360 9367
URL:https://writersforum.org/event/alabama-state-poetry-society-online-open-mic/2026-07-27/
LOCATION:Zoom
ATTACH;FMTTYPE=image/png:https://writersforum.org/wp-content/uploads/2023/09/openmiczoom-1.png
ORGANIZER;CN="Alabama State Poetry Society":MAILTO:alabamapoets@gmail.com
END:VEVENT
BEGIN:VEVENT
DTSTART;TZID=America/Chicago:20260824T183000
DTEND;TZID=America/Chicago:20260824T193000
DTSTAMP:20260419T184612
CREATED:20230921T153144Z
LAST-MODIFIED:20230921T153144Z
UID:10000152-1787596200-1787599800@writersforum.org
SUMMARY:Alabama State Poetry Society Online Open Mic
DESCRIPTION:Join us for online poetry open mics the 4th Monday of each month! \nhttps://us02web.zoom.us/j/85693609367\nMeeting ID: 856 9360 9367
URL:https://writersforum.org/event/alabama-state-poetry-society-online-open-mic/2026-08-24/
LOCATION:Zoom
ATTACH;FMTTYPE=image/png:https://writersforum.org/wp-content/uploads/2023/09/openmiczoom-1.png
ORGANIZER;CN="Alabama State Poetry Society":MAILTO:alabamapoets@gmail.com
END:VEVENT
BEGIN:VEVENT
DTSTART;TZID=America/Chicago:20260928T183000
DTEND;TZID=America/Chicago:20260928T193000
DTSTAMP:20260419T184612
CREATED:20230921T153144Z
LAST-MODIFIED:20230921T153144Z
UID:10000153-1790620200-1790623800@writersforum.org
SUMMARY:Alabama State Poetry Society Online Open Mic
DESCRIPTION:Join us for online poetry open mics the 4th Monday of each month! \nhttps://us02web.zoom.us/j/85693609367\nMeeting ID: 856 9360 9367
URL:https://writersforum.org/event/alabama-state-poetry-society-online-open-mic/2026-09-28/
LOCATION:Zoom
ATTACH;FMTTYPE=image/png:https://writersforum.org/wp-content/uploads/2023/09/openmiczoom-1.png
ORGANIZER;CN="Alabama State Poetry Society":MAILTO:alabamapoets@gmail.com
END:VEVENT
BEGIN:VEVENT
DTSTART;TZID=America/Chicago:20261026T183000
DTEND;TZID=America/Chicago:20261026T193000
DTSTAMP:20260419T184612
CREATED:20230921T153144Z
LAST-MODIFIED:20230921T153144Z
UID:10000154-1793039400-1793043000@writersforum.org
SUMMARY:Alabama State Poetry Society Online Open Mic
DESCRIPTION:Join us for online poetry open mics the 4th Monday of each month! \nhttps://us02web.zoom.us/j/85693609367\nMeeting ID: 856 9360 9367
URL:https://writersforum.org/event/alabama-state-poetry-society-online-open-mic/2026-10-26/
LOCATION:Zoom
ATTACH;FMTTYPE=image/png:https://writersforum.org/wp-content/uploads/2023/09/openmiczoom-1.png
ORGANIZER;CN="Alabama State Poetry Society":MAILTO:alabamapoets@gmail.com
END:VEVENT
BEGIN:VEVENT
DTSTART;TZID=America/Chicago:20261123T183000
DTEND;TZID=America/Chicago:20261123T193000
DTSTAMP:20260419T184612
CREATED:20230921T153144Z
LAST-MODIFIED:20230921T153144Z
UID:10000155-1795458600-1795462200@writersforum.org
SUMMARY:Alabama State Poetry Society Online Open Mic
DESCRIPTION:Join us for online poetry open mics the 4th Monday of each month! \nhttps://us02web.zoom.us/j/85693609367\nMeeting ID: 856 9360 9367
URL:https://writersforum.org/event/alabama-state-poetry-society-online-open-mic/2026-11-23/
LOCATION:Zoom
ATTACH;FMTTYPE=image/png:https://writersforum.org/wp-content/uploads/2023/09/openmiczoom-1.png
ORGANIZER;CN="Alabama State Poetry Society":MAILTO:alabamapoets@gmail.com
END:VEVENT
BEGIN:VEVENT
DTSTART;TZID=America/Chicago:20261228T183000
DTEND;TZID=America/Chicago:20261228T193000
DTSTAMP:20260419T184612
CREATED:20230921T153144Z
LAST-MODIFIED:20230921T153144Z
UID:10000156-1798482600-1798486200@writersforum.org
SUMMARY:Alabama State Poetry Society Online Open Mic
DESCRIPTION:Join us for online poetry open mics the 4th Monday of each month! \nhttps://us02web.zoom.us/j/85693609367\nMeeting ID: 856 9360 9367
URL:https://writersforum.org/event/alabama-state-poetry-society-online-open-mic/2026-12-28/
LOCATION:Zoom
ATTACH;FMTTYPE=image/png:https://writersforum.org/wp-content/uploads/2023/09/openmiczoom-1.png
ORGANIZER;CN="Alabama State Poetry Society":MAILTO:alabamapoets@gmail.com
END:VEVENT
BEGIN:VEVENT
DTSTART;TZID=America/Chicago:20270125T183000
DTEND;TZID=America/Chicago:20270125T193000
DTSTAMP:20260419T184612
CREATED:20230921T153144Z
LAST-MODIFIED:20230921T153144Z
UID:10000157-1800901800-1800905400@writersforum.org
SUMMARY:Alabama State Poetry Society Online Open Mic
DESCRIPTION:Join us for online poetry open mics the 4th Monday of each month! \nhttps://us02web.zoom.us/j/85693609367\nMeeting ID: 856 9360 9367
URL:https://writersforum.org/event/alabama-state-poetry-society-online-open-mic/2027-01-25/
LOCATION:Zoom
ATTACH;FMTTYPE=image/png:https://writersforum.org/wp-content/uploads/2023/09/openmiczoom-1.png
ORGANIZER;CN="Alabama State Poetry Society":MAILTO:alabamapoets@gmail.com
END:VEVENT
BEGIN:VEVENT
DTSTART;TZID=America/Chicago:20270222T183000
DTEND;TZID=America/Chicago:20270222T193000
DTSTAMP:20260419T184612
CREATED:20230921T153144Z
LAST-MODIFIED:20230921T153144Z
UID:10000158-1803321000-1803324600@writersforum.org
SUMMARY:Alabama State Poetry Society Online Open Mic
DESCRIPTION:Join us for online poetry open mics the 4th Monday of each month! \nhttps://us02web.zoom.us/j/85693609367\nMeeting ID: 856 9360 9367
URL:https://writersforum.org/event/alabama-state-poetry-society-online-open-mic/2027-02-22/
LOCATION:Zoom
ATTACH;FMTTYPE=image/png:https://writersforum.org/wp-content/uploads/2023/09/openmiczoom-1.png
ORGANIZER;CN="Alabama State Poetry Society":MAILTO:alabamapoets@gmail.com
END:VEVENT
BEGIN:VEVENT
DTSTART;TZID=America/Chicago:20270322T183000
DTEND;TZID=America/Chicago:20270322T193000
DTSTAMP:20260419T184612
CREATED:20230921T153144Z
LAST-MODIFIED:20230921T153144Z
UID:10000159-1805740200-1805743800@writersforum.org
SUMMARY:Alabama State Poetry Society Online Open Mic
DESCRIPTION:Join us for online poetry open mics the 4th Monday of each month! \nhttps://us02web.zoom.us/j/85693609367\nMeeting ID: 856 9360 9367
URL:https://writersforum.org/event/alabama-state-poetry-society-online-open-mic/2027-03-22/
LOCATION:Zoom
ATTACH;FMTTYPE=image/png:https://writersforum.org/wp-content/uploads/2023/09/openmiczoom-1.png
ORGANIZER;CN="Alabama State Poetry Society":MAILTO:alabamapoets@gmail.com
END:VEVENT
BEGIN:VEVENT
DTSTART;TZID=America/Chicago:20270426T183000
DTEND;TZID=America/Chicago:20270426T193000
DTSTAMP:20260419T184612
CREATED:20230921T153144Z
LAST-MODIFIED:20230921T153144Z
UID:10000160-1808764200-1808767800@writersforum.org
SUMMARY:Alabama State Poetry Society Online Open Mic
DESCRIPTION:Join us for online poetry open mics the 4th Monday of each month! \nhttps://us02web.zoom.us/j/85693609367\nMeeting ID: 856 9360 9367
URL:https://writersforum.org/event/alabama-state-poetry-society-online-open-mic/2027-04-26/
LOCATION:Zoom
ATTACH;FMTTYPE=image/png:https://writersforum.org/wp-content/uploads/2023/09/openmiczoom-1.png
ORGANIZER;CN="Alabama State Poetry Society":MAILTO:alabamapoets@gmail.com
END:VEVENT
BEGIN:VEVENT
DTSTART;TZID=America/Chicago:20270524T183000
DTEND;TZID=America/Chicago:20270524T193000
DTSTAMP:20260419T184612
CREATED:20230921T153144Z
LAST-MODIFIED:20230921T153144Z
UID:10000161-1811183400-1811187000@writersforum.org
SUMMARY:Alabama State Poetry Society Online Open Mic
DESCRIPTION:Join us for online poetry open mics the 4th Monday of each month! \nhttps://us02web.zoom.us/j/85693609367\nMeeting ID: 856 9360 9367
URL:https://writersforum.org/event/alabama-state-poetry-society-online-open-mic/2027-05-24/
LOCATION:Zoom
ATTACH;FMTTYPE=image/png:https://writersforum.org/wp-content/uploads/2023/09/openmiczoom-1.png
ORGANIZER;CN="Alabama State Poetry Society":MAILTO:alabamapoets@gmail.com
END:VEVENT
BEGIN:VEVENT
DTSTART;TZID=America/Chicago:20270628T183000
DTEND;TZID=America/Chicago:20270628T193000
DTSTAMP:20260419T184612
CREATED:20230921T153144Z
LAST-MODIFIED:20230921T153144Z
UID:10000162-1814207400-1814211000@writersforum.org
SUMMARY:Alabama State Poetry Society Online Open Mic
DESCRIPTION:Join us for online poetry open mics the 4th Monday of each month! \nhttps://us02web.zoom.us/j/85693609367\nMeeting ID: 856 9360 9367
URL:https://writersforum.org/event/alabama-state-poetry-society-online-open-mic/2027-06-28/
LOCATION:Zoom
ATTACH;FMTTYPE=image/png:https://writersforum.org/wp-content/uploads/2023/09/openmiczoom-1.png
ORGANIZER;CN="Alabama State Poetry Society":MAILTO:alabamapoets@gmail.com
END:VEVENT
BEGIN:VEVENT
DTSTART;TZID=America/Chicago:20270726T183000
DTEND;TZID=America/Chicago:20270726T193000
DTSTAMP:20260419T184612
CREATED:20230921T153144Z
LAST-MODIFIED:20230921T153144Z
UID:10000163-1816626600-1816630200@writersforum.org
SUMMARY:Alabama State Poetry Society Online Open Mic
DESCRIPTION:Join us for online poetry open mics the 4th Monday of each month! \nhttps://us02web.zoom.us/j/85693609367\nMeeting ID: 856 9360 9367
URL:https://writersforum.org/event/alabama-state-poetry-society-online-open-mic/2027-07-26/
LOCATION:Zoom
ATTACH;FMTTYPE=image/png:https://writersforum.org/wp-content/uploads/2023/09/openmiczoom-1.png
ORGANIZER;CN="Alabama State Poetry Society":MAILTO:alabamapoets@gmail.com
END:VEVENT
BEGIN:VEVENT
DTSTART;TZID=America/Chicago:20270823T183000
DTEND;TZID=America/Chicago:20270823T193000
DTSTAMP:20260419T184612
CREATED:20230921T153144Z
LAST-MODIFIED:20230921T153144Z
UID:10000164-1819045800-1819049400@writersforum.org
SUMMARY:Alabama State Poetry Society Online Open Mic
DESCRIPTION:Join us for online poetry open mics the 4th Monday of each month! \nhttps://us02web.zoom.us/j/85693609367\nMeeting ID: 856 9360 9367
URL:https://writersforum.org/event/alabama-state-poetry-society-online-open-mic/2027-08-23/
LOCATION:Zoom
ATTACH;FMTTYPE=image/png:https://writersforum.org/wp-content/uploads/2023/09/openmiczoom-1.png
ORGANIZER;CN="Alabama State Poetry Society":MAILTO:alabamapoets@gmail.com
END:VEVENT
BEGIN:VEVENT
DTSTART;TZID=America/Chicago:20270927T183000
DTEND;TZID=America/Chicago:20270927T193000
DTSTAMP:20260419T184612
CREATED:20230921T153144Z
LAST-MODIFIED:20230921T153144Z
UID:10000165-1822069800-1822073400@writersforum.org
SUMMARY:Alabama State Poetry Society Online Open Mic
DESCRIPTION:Join us for online poetry open mics the 4th Monday of each month! \nhttps://us02web.zoom.us/j/85693609367\nMeeting ID: 856 9360 9367
URL:https://writersforum.org/event/alabama-state-poetry-society-online-open-mic/2027-09-27/
LOCATION:Zoom
ATTACH;FMTTYPE=image/png:https://writersforum.org/wp-content/uploads/2023/09/openmiczoom-1.png
ORGANIZER;CN="Alabama State Poetry Society":MAILTO:alabamapoets@gmail.com
END:VEVENT
BEGIN:VEVENT
DTSTART;TZID=America/Chicago:20271025T183000
DTEND;TZID=America/Chicago:20271025T193000
DTSTAMP:20260419T184612
CREATED:20230921T153144Z
LAST-MODIFIED:20230921T153144Z
UID:10000166-1824489000-1824492600@writersforum.org
SUMMARY:Alabama State Poetry Society Online Open Mic
DESCRIPTION:Join us for online poetry open mics the 4th Monday of each month! \nhttps://us02web.zoom.us/j/85693609367\nMeeting ID: 856 9360 9367
URL:https://writersforum.org/event/alabama-state-poetry-society-online-open-mic/2027-10-25/
LOCATION:Zoom
ATTACH;FMTTYPE=image/png:https://writersforum.org/wp-content/uploads/2023/09/openmiczoom-1.png
ORGANIZER;CN="Alabama State Poetry Society":MAILTO:alabamapoets@gmail.com
END:VEVENT
END:VCALENDAR