BEGIN:VCALENDAR
VERSION:2.0
PRODID:-//Alabama Writers&#039; Forum - ECPv6.15.20//NONSGML v1.0//EN
CALSCALE:GREGORIAN
METHOD:PUBLISH
X-ORIGINAL-URL:https://writersforum.org
X-WR-CALDESC:Events for Alabama Writers&#039; Forum
REFRESH-INTERVAL;VALUE=DURATION:PT1H
X-Robots-Tag:noindex
X-PUBLISHED-TTL:PT1H
BEGIN:VTIMEZONE
TZID:America/Chicago
BEGIN:DAYLIGHT
TZOFFSETFROM:-0600
TZOFFSETTO:-0500
TZNAME:CDT
DTSTART:20250309T080000
END:DAYLIGHT
BEGIN:STANDARD
TZOFFSETFROM:-0500
TZOFFSETTO:-0600
TZNAME:CST
DTSTART:20251102T070000
END:STANDARD
BEGIN:DAYLIGHT
TZOFFSETFROM:-0600
TZOFFSETTO:-0500
TZNAME:CDT
DTSTART:20260308T080000
END:DAYLIGHT
BEGIN:STANDARD
TZOFFSETFROM:-0500
TZOFFSETTO:-0600
TZNAME:CST
DTSTART:20261101T070000
END:STANDARD
BEGIN:DAYLIGHT
TZOFFSETFROM:-0600
TZOFFSETTO:-0500
TZNAME:CDT
DTSTART:20270314T080000
END:DAYLIGHT
BEGIN:STANDARD
TZOFFSETFROM:-0500
TZOFFSETTO:-0600
TZNAME:CST
DTSTART:20271107T070000
END:STANDARD
BEGIN:DAYLIGHT
TZOFFSETFROM:-0600
TZOFFSETTO:-0500
TZNAME:CDT
DTSTART:20280312T080000
END:DAYLIGHT
BEGIN:STANDARD
TZOFFSETFROM:-0500
TZOFFSETTO:-0600
TZNAME:CST
DTSTART:20281105T070000
END:STANDARD
END:VTIMEZONE
BEGIN:VEVENT
DTSTART;VALUE=DATE:20260227
DTEND;VALUE=DATE:20270213
DTSTAMP:20260419T211954
CREATED:20240812T155858Z
LAST-MODIFIED:20260407T015014Z
UID:10000345-1772233200-1802473199@writersforum.org
SUMMARY:CALL FOR ENTRIES: 2027 Next Generation Indie Book Awards
DESCRIPTION:The Next Generation Indie Book Awards is the largest International awards program for indie authors and independent publishers. \nSubmissions accepted: Entries from independent publishers and authors worldwide who have a published book\, unpublished manuscript\, galley copy or Advanced Reader Copy written in English with a copyright/release date of 2025\, 2026\, or 2027.\nCategories: 80+\nEntry Fee: $80 for the first category entered and $65 for every additional category entered for the same title\nDeadline: Friday\, February 12\, 2027.\nWinners’ Prizes: Winners in each category are given $100 cash prizes\, gold medals\, complimentary stickers\, social media coverage\, website exposure\, possible representation by a leading literary agent\, and recognition as one of the top independently published books of the year. Three Grand Prize Winners will be selected from all entries received and will be awarded cash prizes of $1500\, $750 and $500 based on their order of win. All Winners are invited to attend the Indie Book Awards gala ceremony.\nFinalists’ Benefits: Winners in each category are given silver medals\, complimentary stickers\, social media coverage and website exposure. All Finalists are invited to attend the Indie Book Awards gala ceremony.\nEnter at: www.indiebookawards.com
URL:https://writersforum.org/event/call-for-entries-next-generation-indie-book-awards/
LOCATION:Online\, NC
ATTACH;FMTTYPE=image/png:https://writersforum.org/wp-content/uploads/2024/08/Indie-Book-Awards.png
ORGANIZER;CN="Next Generation Indie Book Awards":MAILTO:info@indiebookawards.com
END:VEVENT
BEGIN:VEVENT
DTSTART;VALUE=DATE:20260305
DTEND;VALUE=DATE:20270226
DTSTAMP:20260419T211954
CREATED:20231120T161401Z
LAST-MODIFIED:20260407T015533Z
UID:10000195-1772751600-1803596399@writersforum.org
SUMMARY:CALL FOR ENTRIES: 2027 Next Generation Short Story Awards
DESCRIPTION:The Next Generation Short Story Awards is a not-for-profit international awards program for authors of short stories. \nSubmissions accepted: Unpublished short stories and poems (5\,000 words or less)\nCategories: 30+\nDeadline: February 25\, 2027\nEntry Fees: $25 for the first category entered and $20 for every additional category entered for the same story\nWinners’ Prizes: Winners in each category receive $75 cash prizes\, gold medals\, digital promotional stickers\, social media coverage\, literary exposure\, story publication in an Anthology of Winners\, and a complimentary copy of the Anthology of Winners. Three Grand Prize Winners will be selected from all entries and awarded $500 for 1st Prize\, $300 for 2nd Prize and $200 for 3rd Prize and will be invited to attend the Next Generation Indie Book Awards gala ceremony.\nFinalists’ Benefits: Finalists in each category are awarded digital promotional stickers\, literary exposure\, social media coverage and have their name and title of story mentioned in the Anthology of Winners. A copy of the Anthology of Winners is available to purchase at half price and silver medals are available to order.\nEnter at: www.shortstoryawards.com
URL:https://writersforum.org/event/call-for-entries-next-generation-short-story-awards/
LOCATION:Online\, NC
ATTACH;FMTTYPE=image/jpeg:https://writersforum.org/wp-content/uploads/2023/11/Short-Story-Awards_7.27-JPEG.jpeg
ORGANIZER;CN="Next Generation Short Story Awards":MAILTO:info@shortstoryawards.com
END:VEVENT
BEGIN:VEVENT
DTSTART;TZID=America/Chicago:20260516T100000
DTEND;TZID=America/Chicago:20260516T150000
DTSTAMP:20260419T211954
CREATED:20260127T185043Z
LAST-MODIFIED:20260127T185043Z
UID:10001806-1778925600-1778943600@writersforum.org
SUMMARY:Reading and Signing\, Charles Ghigna's The Very Hungry Caterpillar's First Poems\, at Impact Book Festival
DESCRIPTION:
URL:https://writersforum.org/event/reading-and-signing-charles-ghignas-the-very-hungry-caterpillars-first-poems-at-impact-book-festival/
LOCATION:Fultondale Event Center\, 1210 Old Walker Chapel Road\, Fultondale\, AL\, 35068\, United States
END:VEVENT
BEGIN:VEVENT
DTSTART;TZID=America/Chicago:20260516T180000
DTEND;TZID=America/Chicago:20260516T200000
DTSTAMP:20260419T211954
CREATED:20260317T165418Z
LAST-MODIFIED:20260317T165418Z
UID:10001818-1778954400-1778961600@writersforum.org
SUMMARY:Matt Dinniman Unveils A Parade of Horribles
DESCRIPTION:Join us on May 16th at The Haunted Book Shop for an in-store party celebrating A Parade of Horribles\, the next installment in the best-selling Dungeon Crawler Carl series. Dive into Carl’s latest adventure with the new book\, specialty Dungeon Crawler-themed cocktail menu at Alchemy Tavern (next door to the shop\, 21+ with valid ID)\, and an in-store crawl with mini quests\, loot boxes\, and snacks. The fun starts at 6pm at 9 S Joachim St. Trust us when we say the AI will not be pleased if you refuse. \nIn A Parade of Horribles\, we return to the underground world where Carl and his trusty sidekick Donut are thrust into a perilous set of races on the tenth floor of the dungeon. As the environment grows increasingly treacherous and the enigmatic eleventh floor looms\, Carl devises a risky plan to reclaim control. Fans are also treated to bonus material exclusively available in this print edition\, titled “Backstage at the Pineapple Cabaret.” Talk about a loot box! \nWhether you’re a long-time follower\, consider yourself Donut’s true companion\, or new to this series\, The Haunted Book Shop is the perfect venue to explore the depths of author Matt Dinniman’s imaginative exploits. Get ready to face the crawl\, The Haunted Book Shop way! \nReservations required. Ticket price includes hardcover edition of the book\, in-store activities\, and snacks. Limited space available.
URL:https://writersforum.org/event/matt-dinniman-unveils-a-parade-of-horribles/
LOCATION:The Haunted Book Shop\, 9 S JOACHIM ST\, MOBILE\, AL\, 36602-2707\, United States
ATTACH;FMTTYPE=image/png:https://writersforum.org/wp-content/uploads/2026/03/CopyofDungeonCrawlerin-storecrawl-TwitterPost.png
ORGANIZER;CN="The Haunted Book Shop":MAILTO:info@thehauntedbookshopmobile.com
END:VEVENT
END:VCALENDAR