BEGIN:VCALENDAR
VERSION:2.0
PRODID:-//Alabama Writers&#039; Forum - ECPv6.15.20//NONSGML v1.0//EN
CALSCALE:GREGORIAN
METHOD:PUBLISH
X-WR-CALNAME:Alabama Writers&#039; Forum
X-ORIGINAL-URL:https://writersforum.org
X-WR-CALDESC:Events for Alabama Writers&#039; Forum
REFRESH-INTERVAL;VALUE=DURATION:PT1H
X-Robots-Tag:noindex
X-PUBLISHED-TTL:PT1H
BEGIN:VTIMEZONE
TZID:America/Chicago
BEGIN:DAYLIGHT
TZOFFSETFROM:-0600
TZOFFSETTO:-0500
TZNAME:CDT
DTSTART:20240310T080000
END:DAYLIGHT
BEGIN:STANDARD
TZOFFSETFROM:-0500
TZOFFSETTO:-0600
TZNAME:CST
DTSTART:20241103T070000
END:STANDARD
BEGIN:DAYLIGHT
TZOFFSETFROM:-0600
TZOFFSETTO:-0500
TZNAME:CDT
DTSTART:20250309T080000
END:DAYLIGHT
BEGIN:STANDARD
TZOFFSETFROM:-0500
TZOFFSETTO:-0600
TZNAME:CST
DTSTART:20251102T070000
END:STANDARD
BEGIN:DAYLIGHT
TZOFFSETFROM:-0600
TZOFFSETTO:-0500
TZNAME:CDT
DTSTART:20260308T080000
END:DAYLIGHT
BEGIN:STANDARD
TZOFFSETFROM:-0500
TZOFFSETTO:-0600
TZNAME:CST
DTSTART:20261101T070000
END:STANDARD
END:VTIMEZONE
BEGIN:VEVENT
DTSTART;VALUE=DATE:20251121
DTEND;VALUE=DATE:20260101
DTSTAMP:20260423T105627
CREATED:20251124T203630Z
LAST-MODIFIED:20251124T203630Z
UID:10001773-1763766000-1767221999@writersforum.org
SUMMARY:Give the gift of Story Feedback
DESCRIPTION:What to give that writer on your list? The gift of feedback. Sunspot’s Angel Leya\, USA Today bestselling coauthor\, provides feedback on stories and novel excerpts. Guidelines available here: https://sunspotlit.submittable.com/submit/311607/genre-fiction-feedback-2025.
URL:https://writersforum.org/event/give-the-gift-of-story-feedback/
LOCATION:Online\, NC
ATTACH;FMTTYPE=image/jpeg:https://writersforum.org/wp-content/uploads/2025/11/Sunspot.jpg
ORGANIZER;CN="Sunspot Literary Journal":MAILTO:SunspotLit@gmail.com
END:VEVENT
BEGIN:VEVENT
DTSTART;TZID=America/Chicago:20251124T183000
DTEND;TZID=America/Chicago:20251124T193000
DTSTAMP:20260423T105627
CREATED:20230921T153144Z
LAST-MODIFIED:20230921T153144Z
UID:10000143-1764009000-1764012600@writersforum.org
SUMMARY:Alabama State Poetry Society Online Open Mic
DESCRIPTION:Join us for online poetry open mics the 4th Monday of each month! \nhttps://us02web.zoom.us/j/85693609367\nMeeting ID: 856 9360 9367
URL:https://writersforum.org/event/alabama-state-poetry-society-online-open-mic/2025-11-24/
LOCATION:Zoom
ATTACH;FMTTYPE=image/png:https://writersforum.org/wp-content/uploads/2023/09/openmiczoom-1.png
ORGANIZER;CN="Alabama State Poetry Society":MAILTO:alabamapoets@gmail.com
END:VEVENT
BEGIN:VEVENT
DTSTART;TZID=America/Chicago:20251124T190000
DTEND;TZID=America/Chicago:20251124T200000
DTSTAMP:20260423T105627
CREATED:20251120T174813Z
LAST-MODIFIED:20251120T174813Z
UID:10001772-1764010800-1764014400@writersforum.org
SUMMARY:The Inflectionist Reading Series #35
DESCRIPTION:The Inflectionist Reading Series #35\, featuring poets Steve Castro\, Ben Cooper\, and Jason Gordy Walker will take place on Nov. 24\, 2025\, at 5 pm Pacific Time/8 pm Eastern Time/7 pm Central Time. \nA Q&A with the poets will follow the reading. \nHere is the Zoom link: https://us02web.zoom.us/meeting/register/ygldkZqGTTiD_piaqLERSg. For security reasons\, we ask the audience members to register in advance or before the reading. \nSteve Castro is a Costa Rican surrealist and documentary poet whose poetry is forthcoming in Tampa Review; Water~Stone Review; Huizache; Laurel Review; Cream City Review; The Boiler; Packingtown Review and The National Poetry Review. His poetry collection Conejo y Gallo was a finalist for the National Poetry Series Competition (2024) and a finalist for the Poetic Justice Institute Editors Prize for a BIPOC Writer (2024-2025). His poetry has appeared in 32 Poems; DIAGRAM; miCRo series: The Cincinnati Review; Verse Daily; The Spectacle; Green Mountains Review; Salamander; Bayou Magazine; The Florida Review; Image; Notre Dame Review; etc. \nBen Cooper is a poet studying creative writing at Salisbury University. He is the winner of the 2025 AWP Intro Journals Award\, works as a Managing Editor at 149 Review\, and is published or forthcoming in Colorado Review\, The Penn Review\, The Shore\, Atlanta Review\, Rust & Moth\, Frontier Poetry\, and more. \nJason Gordy Walker has placed recent poems with Dunes Review\, Louisiana Literature\, Nimrod\, Pembroke Magazine\, and others. His translations from the Norwegian of Rune Christiansen appear or are forthcoming in Birmingham Poetry Review\, B O D Y\, Cordite Poetry Review\, and Subtropics. Walker was a 2025 Artist-in-Residence at Newnan ArtRez\, reviews books for Asymptote’s What’s New in Translation\, and has received scholarships from the New York State Summer Writers Institute and Poetry by the Sea. \nFacebook event: https://www.facebook.com/share/19rFSCXQTD
URL:https://writersforum.org/event/the-inflectionist-reading-series-35/
LOCATION:Facebook
ATTACH;FMTTYPE=image/png:https://writersforum.org/wp-content/uploads/2025/11/JasonGWalker.event_.png
END:VEVENT
END:VCALENDAR