BEGIN:VCALENDAR
VERSION:2.0
PRODID:-//Alabama Writers&#039; Forum - ECPv6.15.20//NONSGML v1.0//EN
CALSCALE:GREGORIAN
METHOD:PUBLISH
X-WR-CALNAME:Alabama Writers&#039; Forum
X-ORIGINAL-URL:https://writersforum.org
X-WR-CALDESC:Events for Alabama Writers&#039; Forum
REFRESH-INTERVAL;VALUE=DURATION:PT1H
X-Robots-Tag:noindex
X-PUBLISHED-TTL:PT1H
BEGIN:VTIMEZONE
TZID:America/Chicago
BEGIN:DAYLIGHT
TZOFFSETFROM:-0600
TZOFFSETTO:-0500
TZNAME:CDT
DTSTART:20240310T080000
END:DAYLIGHT
BEGIN:STANDARD
TZOFFSETFROM:-0500
TZOFFSETTO:-0600
TZNAME:CST
DTSTART:20241103T070000
END:STANDARD
BEGIN:DAYLIGHT
TZOFFSETFROM:-0600
TZOFFSETTO:-0500
TZNAME:CDT
DTSTART:20250309T080000
END:DAYLIGHT
BEGIN:STANDARD
TZOFFSETFROM:-0500
TZOFFSETTO:-0600
TZNAME:CST
DTSTART:20251102T070000
END:STANDARD
BEGIN:DAYLIGHT
TZOFFSETFROM:-0600
TZOFFSETTO:-0500
TZNAME:CDT
DTSTART:20260308T080000
END:DAYLIGHT
BEGIN:STANDARD
TZOFFSETFROM:-0500
TZOFFSETTO:-0600
TZNAME:CST
DTSTART:20261101T070000
END:STANDARD
END:VTIMEZONE
BEGIN:VEVENT
DTSTART;TZID=America/Chicago:20251106T173000
DTEND;TZID=America/Chicago:20251106T193000
DTSTAMP:20260423T063823
CREATED:20250908T170433Z
LAST-MODIFIED:20250908T170511Z
UID:10001715-1762450200-1762457400@writersforum.org
SUMMARY:An In-conversation and Signing with author William Webster at The Haunted Book Shop
DESCRIPTION:Join us at The Haunted Book Shop on November 6\, 2025\, at 5:30pm for an evening with thriller author William Webster. Rockets’ Red Glare\, Webster’s debut terrorism thriller has been referred to as “thriller writing at its most creative and suspenseful.” \nWebster will be in conversation with fellow adventure thriller author Jodie Cain Smith. They will discuss Webster’s writing process\, his ability to create action scenes that make readers hold their breath and turn the pages\, and how his own professional experiences in the political arena influence his writing. A book signing will follow the in-conversation and audience Q&A.
URL:https://writersforum.org/event/an-in-conversation-and-signing-with-author-william-webster-at-the-haunted-book-shop/
LOCATION:The Haunted Book Shop\, 9 S JOACHIM ST\, MOBILE\, AL\, 36602-2707\, United States
ATTACH;FMTTYPE=image/png:https://writersforum.org/wp-content/uploads/2025/09/WilliamWebsterEventTwitterPost.png
ORGANIZER;CN="The Haunted Book Shop":MAILTO:info@thehauntedbookshopmobile.com
END:VEVENT
BEGIN:VEVENT
DTSTART;TZID=America/Chicago:20251106T180000
DTEND;TZID=America/Chicago:20251106T190000
DTSTAMP:20260423T063823
CREATED:20251106T155253Z
LAST-MODIFIED:20251106T155655Z
UID:10001766-1762452000-1762455600@writersforum.org
SUMMARY:7 Points Press Book Release Celebration
DESCRIPTION:7 Points Press presents: A Book Release Celebration at The Kennedy-Douglas Center for the Arts\, 217 East Tuscaloosa Street\, Florence\, Alabama 35630. Reading begins at 6 p.m. on Thursday\, Nov. 6\, 2025.\nFeatured readers will be: Donna Geise\, J. D. Manders\, Jeanie Thompson\, and Wayne Sides. The authors will read and discuss their work. Books will be available for sale. Admission is free.\n\nSign up here: https://www.facebook.com/events/1463289858121621/?acontext=%7B%22event_action_history%22%3A[%7B%22surface%22%3A%22home%22%7D%2C%7B%22mechanism%22%3A%22attachment%22%2C%22surface%22%3A%22newsfeed%22%7D]%2C%22ref_notif_type%22%3Anull%7D
URL:https://writersforum.org/event/7-points-press-book-release-celebration/
LOCATION:The Kennedy-Douglas Center for the Arts\, 217 East Tuscaloosa Street\, Florence\, AL\, 35630\, United States
ATTACH;FMTTYPE=image/jpeg:https://writersforum.org/wp-content/uploads/2025/11/Jeanie.Wayne_.Florence.jpg
END:VEVENT
END:VCALENDAR