BEGIN:VCALENDAR
VERSION:2.0
PRODID:-//Alabama Writers&#039; Forum - ECPv6.15.20//NONSGML v1.0//EN
CALSCALE:GREGORIAN
METHOD:PUBLISH
X-ORIGINAL-URL:https://writersforum.org
X-WR-CALDESC:Events for Alabama Writers&#039; Forum
REFRESH-INTERVAL;VALUE=DURATION:PT1H
X-Robots-Tag:noindex
X-PUBLISHED-TTL:PT1H
BEGIN:VTIMEZONE
TZID:America/Chicago
BEGIN:DAYLIGHT
TZOFFSETFROM:-0600
TZOFFSETTO:-0500
TZNAME:CDT
DTSTART:20240310T080000
END:DAYLIGHT
BEGIN:STANDARD
TZOFFSETFROM:-0500
TZOFFSETTO:-0600
TZNAME:CST
DTSTART:20241103T070000
END:STANDARD
BEGIN:DAYLIGHT
TZOFFSETFROM:-0600
TZOFFSETTO:-0500
TZNAME:CDT
DTSTART:20250309T080000
END:DAYLIGHT
BEGIN:STANDARD
TZOFFSETFROM:-0500
TZOFFSETTO:-0600
TZNAME:CST
DTSTART:20251102T070000
END:STANDARD
BEGIN:DAYLIGHT
TZOFFSETFROM:-0600
TZOFFSETTO:-0500
TZNAME:CDT
DTSTART:20260308T080000
END:DAYLIGHT
BEGIN:STANDARD
TZOFFSETFROM:-0500
TZOFFSETTO:-0600
TZNAME:CST
DTSTART:20261101T070000
END:STANDARD
END:VTIMEZONE
BEGIN:VEVENT
DTSTART;TZID=America/Chicago:20251025T110000
DTEND;TZID=America/Chicago:20251031T200000
DTSTAMP:20260423T050622
CREATED:20250930T152328Z
LAST-MODIFIED:20250930T152328Z
UID:10001752-1761390000-1761940800@writersforum.org
SUMMARY:The Haunted Book Shop Halloween Challenge!
DESCRIPTION:At The Haunted Book Shop\, we love Halloween! This year we want to celebrate spooky season with you during The Haunted Book Shop Halloween Challenge from October 25-31\, 2025. This BRAND NEW activity challenges Halloween revelers to dash around downtown Mobile in search of ten locations connected to ten books that haunt us. \nParticipants of the Halloween challenge will be entered into the grand prize drawing to win the BIG SPOOKY SEASON BOOK BUNDLE. But beware\, the challenge starts on October 25th and ends on October 31! \nThe Halloween Challenge Rules: \nPick up your Halloween Challenge Clue Sheet and The Haunted Book Shop Halloween Challenge official placard from The Haunted Book Shop from October 25-31.\nGive your name and contact information to a Haunted Book Shop associate for the BIG spooky book bundle PRIZE drawing.\nSearch for each location (answers to the 10 clues) around downtown Mobile.\nWhen you arrive at each location\, take a photo. (Gaining entry to the location or building is not required. Exterior shots are great!)\nInclude the Haunted Book Shop placard in your picture.\nOnce you take the ten pictures (or however many clues you complete)\, post the pictures in ONE post to either Instagram or Facebook AND tag The Haunted Book Shop on the post.\nInclude #thehauntedbookshopmobilehalloweenchallenge2025 in your post.\nPosts must be made by MIDNIGHT\, October 31st to be entered into the prize drawing. (Post will be matched to contact information provided to The Haunted Book Shop.)\nA completed entry (social media post with tag and hashtag) will earn 1 entry into the BIG\, spooky book bundle drawing.\nBonus entries opportunities: One bonus entry is given if the photos include a participant in costume. One bonus entry is given if participant signs up for the challenge on Eventbrite (search for The Haunted Book Shop Mobile Halloween Challenge on Eventbrite). One bonus entry is given if participant’s social media post includes 10 correct answers!\nThat’s right! You can earn up to FOUR chances to win! \nSo\, are you brave enough to dare The Haunted Book Shop Halloween Challenge? Mr. Bingley\, the world’s coolest bookstore cat\, and all the haints of The Haunted Book Shop believe you’re ready for a Halloween adventure!
URL:https://writersforum.org/event/the-haunted-book-shop-halloween-challenge/
LOCATION:The Haunted Book Shop\, 9 S JOACHIM ST\, MOBILE\, AL\, 36602-2707\, United States
ATTACH;FMTTYPE=image/png:https://writersforum.org/wp-content/uploads/2025/09/Halloween-Challenge-Main-Image-Twitter-Post.png
ORGANIZER;CN="The Haunted Book Shop":MAILTO:info@thehauntedbookshopmobile.com
END:VEVENT
BEGIN:VEVENT
DTSTART;TZID=America/Chicago:20251027T183000
DTEND;TZID=America/Chicago:20251027T193000
DTSTAMP:20260423T050622
CREATED:20230921T153144Z
LAST-MODIFIED:20230921T153144Z
UID:10000142-1761589800-1761593400@writersforum.org
SUMMARY:Alabama State Poetry Society Online Open Mic
DESCRIPTION:Join us for online poetry open mics the 4th Monday of each month! \nhttps://us02web.zoom.us/j/85693609367\nMeeting ID: 856 9360 9367
URL:https://writersforum.org/event/alabama-state-poetry-society-online-open-mic/2025-10-27/
LOCATION:Zoom
ATTACH;FMTTYPE=image/png:https://writersforum.org/wp-content/uploads/2023/09/openmiczoom-1.png
ORGANIZER;CN="Alabama State Poetry Society":MAILTO:alabamapoets@gmail.com
END:VEVENT
END:VCALENDAR