BEGIN:VCALENDAR
VERSION:2.0
PRODID:-//Alabama Writers&#039; Forum - ECPv6.15.20//NONSGML v1.0//EN
CALSCALE:GREGORIAN
METHOD:PUBLISH
X-ORIGINAL-URL:https://writersforum.org
X-WR-CALDESC:Events for Alabama Writers&#039; Forum
REFRESH-INTERVAL;VALUE=DURATION:PT1H
X-Robots-Tag:noindex
X-PUBLISHED-TTL:PT1H
BEGIN:VTIMEZONE
TZID:America/Chicago
BEGIN:DAYLIGHT
TZOFFSETFROM:-0600
TZOFFSETTO:-0500
TZNAME:CDT
DTSTART:20240310T080000
END:DAYLIGHT
BEGIN:STANDARD
TZOFFSETFROM:-0500
TZOFFSETTO:-0600
TZNAME:CST
DTSTART:20241103T070000
END:STANDARD
BEGIN:DAYLIGHT
TZOFFSETFROM:-0600
TZOFFSETTO:-0500
TZNAME:CDT
DTSTART:20250309T080000
END:DAYLIGHT
BEGIN:STANDARD
TZOFFSETFROM:-0500
TZOFFSETTO:-0600
TZNAME:CST
DTSTART:20251102T070000
END:STANDARD
BEGIN:DAYLIGHT
TZOFFSETFROM:-0600
TZOFFSETTO:-0500
TZNAME:CDT
DTSTART:20260308T080000
END:DAYLIGHT
BEGIN:STANDARD
TZOFFSETFROM:-0500
TZOFFSETTO:-0600
TZNAME:CST
DTSTART:20261101T070000
END:STANDARD
END:VTIMEZONE
BEGIN:VEVENT
DTSTART;TZID=America/Chicago:20251023T160000
DTEND;TZID=America/Chicago:20251023T170000
DTSTAMP:20260423T021716
CREATED:20250922T142827Z
LAST-MODIFIED:20250922T142827Z
UID:10001719-1761235200-1761238800@writersforum.org
SUMMARY:"Notable Women of Alabama" Presentation
DESCRIPTION:Author Joe Cuhaj will discuss his new book\, Notable Women of Alabama\, that profiles 50 women who made a difference in Alabama\, the nation\, and the world\, at the Fairhope Public Library\, October 23\, 2025\, at 4 p.m. \nThe event is free and open to the public. There will be a Q&A and a book signing following the presentation.
URL:https://writersforum.org/event/notable-women-of-alabama-presentation/
LOCATION:Fairhope Public Library\, 501 Fairhope Ave.\, Fairhope\, AL\, 36532\, United States
ATTACH;FMTTYPE=image/jpeg:https://writersforum.org/wp-content/uploads/2025/09/trimmed-scaled.jpg
END:VEVENT
BEGIN:VEVENT
DTSTART;TZID=America/Chicago:20251023T170000
DTEND;TZID=America/Chicago:20251023T193000
DTSTAMP:20260423T021716
CREATED:20251020T164238Z
LAST-MODIFIED:20251020T164238Z
UID:10001759-1761238800-1761247800@writersforum.org
SUMMARY:Auburn Witness Poetry Prize Event in Auburn
DESCRIPTION:The annual Auburn Witness Prize program in the Third Thursday Literary Series\, will be October 23 at the Jule Collins Smith Museum on South College Street in Auburn. The event is scheduled for 5 – 7 p.m.\n\nNicole Sealey\, this year’s Witness Prize judge\, and Hana Widerman\, the Witness Prize winner\, will both read from their work.\n\n                 \nNicole Sealey                                                                                    Hana Widerman\n\nThe Witness Prize reading is sponsored by the Jule Collins Smith Museum of Fine Art. Supporters of the Third Thursday Literary Series include The Caroline Marshall Draughon Center for the Arts and Humanities\, the Department of English and Southern Humanities Review in the Auburn College of Liberal Arts\, the Osher Lifelong Learning Institute at Auburn University\, and the Alabama State Council on the Arts.\n\n\n5:00 – A tour of Radical Naturalism: Lyric Birdscapes\, a current museum exhibit combining Audubon prints and poetry \n6:00 – Book signing by Sealey; auditorium seating opens \n6:30 – Poetry reading begins \nEvents are free\, and surely there will be plenty of auditorium seating\, but if you want to be sure of a spot\, you may RSVP to https://jcsm.auburn.edu/event/auburn-witness-poetry-prize/
URL:https://writersforum.org/event/auburn-witness-poetry-prize-event-in-auburn/
LOCATION:Jule Collins Smith Museum of Fine Art at Auburn University\, 901 S. College St.\, Auburn\, AL\, 36849\, United States
ATTACH;FMTTYPE=image/jpeg:https://writersforum.org/wp-content/uploads/2025/10/Auburn.Witness.Poetry.2025.jpg
END:VEVENT
END:VCALENDAR