BEGIN:VCALENDAR
VERSION:2.0
PRODID:-//Alabama Writers&#039; Forum - ECPv6.15.20//NONSGML v1.0//EN
CALSCALE:GREGORIAN
METHOD:PUBLISH
X-WR-CALNAME:Alabama Writers&#039; Forum
X-ORIGINAL-URL:https://writersforum.org
X-WR-CALDESC:Events for Alabama Writers&#039; Forum
REFRESH-INTERVAL;VALUE=DURATION:PT1H
X-Robots-Tag:noindex
X-PUBLISHED-TTL:PT1H
BEGIN:VTIMEZONE
TZID:America/Chicago
BEGIN:DAYLIGHT
TZOFFSETFROM:-0600
TZOFFSETTO:-0500
TZNAME:CDT
DTSTART:20240310T080000
END:DAYLIGHT
BEGIN:STANDARD
TZOFFSETFROM:-0500
TZOFFSETTO:-0600
TZNAME:CST
DTSTART:20241103T070000
END:STANDARD
BEGIN:DAYLIGHT
TZOFFSETFROM:-0600
TZOFFSETTO:-0500
TZNAME:CDT
DTSTART:20250309T080000
END:DAYLIGHT
BEGIN:STANDARD
TZOFFSETFROM:-0500
TZOFFSETTO:-0600
TZNAME:CST
DTSTART:20251102T070000
END:STANDARD
BEGIN:DAYLIGHT
TZOFFSETFROM:-0600
TZOFFSETTO:-0500
TZNAME:CDT
DTSTART:20260308T080000
END:DAYLIGHT
BEGIN:STANDARD
TZOFFSETFROM:-0500
TZOFFSETTO:-0600
TZNAME:CST
DTSTART:20261101T070000
END:STANDARD
END:VTIMEZONE
BEGIN:VEVENT
DTSTART;TZID=America/Chicago:20251010T173000
DTEND;TZID=America/Chicago:20251010T190000
DTSTAMP:20260420T074405
CREATED:20250902T193726Z
LAST-MODIFIED:20250902T193726Z
UID:10001685-1760117400-1760122800@writersforum.org
SUMMARY:It's Banned Books Trivia Night at NewSouth Books!
DESCRIPTION:Join us for an evening of trivia fun — our first ever — at The NewSouth Bookstore! It’s Banned Books Trivia Night on Friday\, October 10 at 5:30pm. Celebrate the power of stories and the right to read with our staff and the advocates of Read Freely Alabama. Angie Hayden emcees! Test your knowledge of the most challenged books throughout history – from classic novels to contemporary favorites – and learn more about the ongoing fight against censorship in our state\, in our nation. Whether you’re a literary rebel or just love a good trivia challenge\, this will be a fun night\, with prizes for the winning team. Bring your own team or we can add you to one. Hope you’ll join us for this special event!
URL:https://writersforum.org/event/its-banned-books-trivia-night-at-newsouth-books/
LOCATION:The NewSouth Bookstore\, 105 S. Court St\, Montgomery\, 36104\, United States
ATTACH;FMTTYPE=image/png:https://writersforum.org/wp-content/uploads/2025/09/Banned-Books-Trivia-Night.png
ORGANIZER;CN="The NewSouth Bookstore":MAILTO:gabbi.emerson@newsouthbookstore.com
END:VEVENT
END:VCALENDAR