BEGIN:VCALENDAR
VERSION:2.0
PRODID:-//Alabama Writers&#039; Forum - ECPv6.15.20//NONSGML v1.0//EN
CALSCALE:GREGORIAN
METHOD:PUBLISH
X-WR-CALNAME:Alabama Writers&#039; Forum
X-ORIGINAL-URL:https://writersforum.org
X-WR-CALDESC:Events for Alabama Writers&#039; Forum
REFRESH-INTERVAL;VALUE=DURATION:PT1H
X-Robots-Tag:noindex
X-PUBLISHED-TTL:PT1H
BEGIN:VTIMEZONE
TZID:America/Chicago
BEGIN:DAYLIGHT
TZOFFSETFROM:-0600
TZOFFSETTO:-0500
TZNAME:CDT
DTSTART:20240310T080000
END:DAYLIGHT
BEGIN:STANDARD
TZOFFSETFROM:-0500
TZOFFSETTO:-0600
TZNAME:CST
DTSTART:20241103T070000
END:STANDARD
BEGIN:DAYLIGHT
TZOFFSETFROM:-0600
TZOFFSETTO:-0500
TZNAME:CDT
DTSTART:20250309T080000
END:DAYLIGHT
BEGIN:STANDARD
TZOFFSETFROM:-0500
TZOFFSETTO:-0600
TZNAME:CST
DTSTART:20251102T070000
END:STANDARD
BEGIN:DAYLIGHT
TZOFFSETFROM:-0600
TZOFFSETTO:-0500
TZNAME:CDT
DTSTART:20260308T080000
END:DAYLIGHT
BEGIN:STANDARD
TZOFFSETFROM:-0500
TZOFFSETTO:-0600
TZNAME:CST
DTSTART:20261101T070000
END:STANDARD
END:VTIMEZONE
BEGIN:VEVENT
DTSTART;VALUE=DATE:20250902
DTEND;VALUE=DATE:20251001
DTSTAMP:20260425T053315
CREATED:20250903T192441Z
LAST-MODIFIED:20250909T171746Z
UID:10001688-1756854000-1759273199@writersforum.org
SUMMARY:Open Call at Sunspot Lit.
DESCRIPTION:Final quarterly calls closing in September for longform works up to 7\,500 words\, shorter works\, flash\, poetry\, graphic novels and art at Sunspot Lit. Staggered closing dates and guidelines here: https://sunspotlit.submittable.com/submit.
URL:https://writersforum.org/event/open-call-at-sunspot-lit/
LOCATION:Online\, NC
ATTACH;FMTTYPE=image/jpeg:https://writersforum.org/wp-content/uploads/2025/09/Sunspot.jpg
ORGANIZER;CN="Sunspot Literary Journal":MAILTO:SunspotLit@gmail.com
END:VEVENT
BEGIN:VEVENT
DTSTART;TZID=America/Chicago:20250921T140000
DTEND;TZID=America/Chicago:20250921T163000
DTSTAMP:20260425T053315
CREATED:20250918T143011Z
LAST-MODIFIED:20250918T143011Z
UID:10001700-1758463200-1758472200@writersforum.org
SUMMARY:Alabama Story
DESCRIPTION:Set in Montgomery in 1959\, this play delves into the heart of Alabama’s history\, exploring themes of belonging\, identity\, and the fight to protect one’s home and heritage. When a state senator discovers The Rabbit’s Wedding\, a children’s picture book\, is about a black rabbit and a white rabbit getting married\, he sets out to fire the state librarian protecting it. Meanwhile\, a chance meeting between childhood friends\, one white and one black\, forces them to recall\, confront\, and reconcile their complicated past.
URL:https://writersforum.org/event/alabama-story-2/2025-09-21/
LOCATION:Bean- Brown Theatre\, 600 Greensboro Ave\, Tuscaloosa\, AL\, 35405\, United States
ORGANIZER;CN="Theatre Tuscaloosa":MAILTO:tickets@theatretusc.com
END:VEVENT
END:VCALENDAR