BEGIN:VCALENDAR
VERSION:2.0
PRODID:-//Alabama Writers&#039; Forum - ECPv6.15.20//NONSGML v1.0//EN
CALSCALE:GREGORIAN
METHOD:PUBLISH
X-ORIGINAL-URL:https://writersforum.org
X-WR-CALDESC:Events for Alabama Writers&#039; Forum
REFRESH-INTERVAL;VALUE=DURATION:PT1H
X-Robots-Tag:noindex
X-PUBLISHED-TTL:PT1H
BEGIN:VTIMEZONE
TZID:America/Chicago
BEGIN:DAYLIGHT
TZOFFSETFROM:-0600
TZOFFSETTO:-0500
TZNAME:CDT
DTSTART:20230312T080000
END:DAYLIGHT
BEGIN:STANDARD
TZOFFSETFROM:-0500
TZOFFSETTO:-0600
TZNAME:CST
DTSTART:20231105T070000
END:STANDARD
BEGIN:DAYLIGHT
TZOFFSETFROM:-0600
TZOFFSETTO:-0500
TZNAME:CDT
DTSTART:20240310T080000
END:DAYLIGHT
BEGIN:STANDARD
TZOFFSETFROM:-0500
TZOFFSETTO:-0600
TZNAME:CST
DTSTART:20241103T070000
END:STANDARD
BEGIN:DAYLIGHT
TZOFFSETFROM:-0600
TZOFFSETTO:-0500
TZNAME:CDT
DTSTART:20250309T080000
END:DAYLIGHT
BEGIN:STANDARD
TZOFFSETFROM:-0500
TZOFFSETTO:-0600
TZNAME:CST
DTSTART:20251102T070000
END:STANDARD
END:VTIMEZONE
BEGIN:VEVENT
DTSTART;TZID=America/Chicago:20240913T080000
DTEND;TZID=America/Chicago:20241201T235900
DTSTAMP:20260419T121752
CREATED:20240916T145602Z
LAST-MODIFIED:20240916T145602Z
UID:10000365-1726214400-1733097540@writersforum.org
SUMMARY:Thirteen Bridges Review Poetry Submissions Open Sept. 13- Dec 1\, 2024
DESCRIPTION:At Thirteen Bridges Review\, we are currently featuring new poetry\, fiction\, and creative non-fiction as a monthly feature on our website\, and we’d love the chance to consider your work. \nPlease send us your best poetry\, up to three poems. We are open to all forms and styles. \nWe are happy to accept simultaneous submissions. Just let us know if your work is accepted elsewhere. \nPlease do not submit previously published work. \nPlease submit as Microsoft Word documents. \nWe look forward to reading your work. \nAll accepted submissions will be published on our website and will be considered for publication in our first print issue this spring. \nThirteen Bridges Review Submission Manager – Call for Poetry – Thirteen Bridges Online (submittable.com)
URL:https://writersforum.org/event/thirteen-bridges-review-poetry-submissions-open-sept-13-dec-1-2024/
LOCATION:AUM\, 7400 East Drive\, Montgomery\, AL\, United States
ATTACH;FMTTYPE=image/png:https://writersforum.org/wp-content/uploads/2024/09/13-Bridges-Review.png
ORGANIZER;CN="Thirteen Bridges Review":MAILTO:kquaney@aum.edu
END:VEVENT
BEGIN:VEVENT
DTSTART;TZID=America/Chicago:20240913T080000
DTEND;TZID=America/Chicago:20241201T235900
DTSTAMP:20260419T121752
CREATED:20240919T194545Z
LAST-MODIFIED:20240919T194639Z
UID:10000366-1726214400-1733097540@writersforum.org
SUMMARY:Thirteen Bridges Review Short Fiction Submissions Open Sept. 13-Dec. 1\, 2024
DESCRIPTION:At Thirteen Bridges Review we are looking for beautifully written\, character-driven fiction pieces for our online monthly story feature and are open to all forms and styles. \nStories should be readable in one sitting\, so we’ll consider anything from flash/micro up to about eight pages double spaced. \nWe are happy to accept simultaneous submissions. Just let us know if your work is accepted elsewhere. \nPlease do not submit previously published work. \nPlease submit only one short story or up to three flash/micro pieces. \nPlease submit as Microsoft Word document only. \nWe look forward to reading your work. \nAccepted submissions will be published on our website as a monthly story feature and will also be considered for publication in our print journal this spring. \nThirteen Bridges Review Submission Manager – Call for Short Fiction – Thirteen Bridges Online (submittable.com)
URL:https://writersforum.org/event/thirteen-bridges-review-short-fiction-submissions-open-sept-13-dec-1-2024/
LOCATION:AUM\, 7400 East Drive\, Montgomery\, AL\, United States
ATTACH;FMTTYPE=image/png:https://writersforum.org/wp-content/uploads/2024/09/13-Bridges-Review.png
ORGANIZER;CN="Thirteen Bridges Review":MAILTO:kquaney@aum.edu
END:VEVENT
BEGIN:VEVENT
DTSTART;VALUE=DATE:20241001
DTEND;VALUE=DATE:20241101
DTSTAMP:20260419T121752
CREATED:20241007T144226Z
LAST-MODIFIED:20241007T144226Z
UID:10000375-1727740800-1730419199@writersforum.org
SUMMARY:Sunspot Lit Calling for Novella-length Fiction and Nonfiction
DESCRIPTION:For a limited time\, Sunspot Lit is calling for single works of novella-length fiction or nonfiction in any category\, including memoir\, literary\, genre\, and historical. Open October 1 through October 31. Guidelines and submission forms at Submittable: https://sunspotlit.submittable.com/submit or Duotrope: https://duotrope.com/duosuma/submit/sunspot-literary-journal-LIXJW.
URL:https://writersforum.org/event/sunspot-lit-calling-for-novella-length-fiction-and-nonfiction/
LOCATION:Online\, NC
ATTACH;FMTTYPE=image/jpeg:https://writersforum.org/wp-content/uploads/2024/10/Sunspot.jpg
ORGANIZER;CN="Sunspot Literary Journal":MAILTO:SunspotLit@gmail.com
END:VEVENT
BEGIN:VEVENT
DTSTART;TZID=America/Chicago:20241023T080000
DTEND;TZID=America/Chicago:20241030T170000
DTSTAMP:20260419T121752
CREATED:20240207T183357Z
LAST-MODIFIED:20240207T183357Z
UID:10000233-1729670400-1730307600@writersforum.org
SUMMARY:Go and Write! Retreat to Kingsbrae\, Spring or Autumn—St. Andrews by-the-Sea\, New Brunswick (Canada)
DESCRIPTION:May 4-11 or October 23-30\, 2024. Small group retreats (only 5 rooms). Private\, ensuite bedroom in historic mansion\, private writing studio\, workshops\, written feedback\, and dedicated writing time. All breakfasts and three suppers included.
URL:https://writersforum.org/event/go-and-write-retreat-to-kingsbrae-spring-or-autumn-st-andrews-by-the-sea-new-brunswick-canada-2/
LOCATION:Kingsbrae Estate\, St. Andrews by-the-Sea\, New Brunswick\, Canada\, New Brunswick\, Canada
ATTACH;FMTTYPE=image/jpeg:https://writersforum.org/wp-content/uploads/2024/02/2023-06-Kingsbrae-Studios-IMG_5712-2-768x576-1.jpg
ORGANIZER;CN="Go and Write!":MAILTO:janiegoandwrite@gmail.com
END:VEVENT
BEGIN:VEVENT
DTSTART;TZID=America/Chicago:20241024T173000
DTEND;TZID=America/Chicago:20241024T190000
DTSTAMP:20260419T121752
CREATED:20240820T183711Z
LAST-MODIFIED:20240820T183711Z
UID:10000350-1729791000-1729796400@writersforum.org
SUMMARY:Thursday\, October 24 at 5:30pm at The NewSouth Bookstore: A Halloween Special with Karren Pell  and the Old Alabama Revue
DESCRIPTION:Karren Pell and the Old Alabama Revue return to The NewSouth Bookstore for Halloween. They’ll conjure up a fiendishly fun program of spooktacular songs — original tunes and old favorites you love. Join us at The NewSouth Bookstore on Thursday\, October 24 at 5:30pm. Halloween costumes optional but encouraged. There will be devilishly good snacks and drinks served and music to raise the spirits. There’s not a ghost of a chance this won’t be fun!
URL:https://writersforum.org/event/thursday-october-24-at-530pm-at-the-newsouth-bookstore-a-halloween-special-with-karren-pell-and-the-old-alabama-revue/
LOCATION:The NewSouth Bookstore\, 105 S. Court St\, Montgomery\, 36104\, United States
ATTACH;FMTTYPE=image/png:https://writersforum.org/wp-content/uploads/2024/08/Karren-Pell.png
ORGANIZER;CN="The NewSouth Bookstore":MAILTO:gabbi.emerson@newsouthbookstore.com
END:VEVENT
END:VCALENDAR