BEGIN:VCALENDAR
VERSION:2.0
PRODID:-//Alabama Writers&#039; Forum - ECPv6.15.20//NONSGML v1.0//EN
CALSCALE:GREGORIAN
METHOD:PUBLISH
X-ORIGINAL-URL:https://writersforum.org
X-WR-CALDESC:Events for Alabama Writers&#039; Forum
REFRESH-INTERVAL;VALUE=DURATION:PT1H
X-Robots-Tag:noindex
X-PUBLISHED-TTL:PT1H
BEGIN:VTIMEZONE
TZID:America/Chicago
BEGIN:DAYLIGHT
TZOFFSETFROM:-0600
TZOFFSETTO:-0500
TZNAME:CDT
DTSTART:20230312T080000
END:DAYLIGHT
BEGIN:STANDARD
TZOFFSETFROM:-0500
TZOFFSETTO:-0600
TZNAME:CST
DTSTART:20231105T070000
END:STANDARD
BEGIN:DAYLIGHT
TZOFFSETFROM:-0600
TZOFFSETTO:-0500
TZNAME:CDT
DTSTART:20240310T080000
END:DAYLIGHT
BEGIN:STANDARD
TZOFFSETFROM:-0500
TZOFFSETTO:-0600
TZNAME:CST
DTSTART:20241103T070000
END:STANDARD
BEGIN:DAYLIGHT
TZOFFSETFROM:-0600
TZOFFSETTO:-0500
TZNAME:CDT
DTSTART:20250309T080000
END:DAYLIGHT
BEGIN:STANDARD
TZOFFSETFROM:-0500
TZOFFSETTO:-0600
TZNAME:CST
DTSTART:20251102T070000
END:STANDARD
END:VTIMEZONE
BEGIN:VEVENT
DTSTART;TZID=America/Chicago:20240401T080000
DTEND;TZID=America/Chicago:20240531T170000
DTSTAMP:20260425T191331
CREATED:20240429T160714Z
LAST-MODIFIED:20240429T160859Z
UID:10000315-1711958400-1717174800@writersforum.org
SUMMARY:Submissions Open for: unwashed\, A Bay View Creative Writing and Arts Zine
DESCRIPTION:The submission period for the 2024 issue of unwashed begins April 1st and ends May 31st. For submission guidelines and questions: unwashed53207@gmail.com
URL:https://writersforum.org/event/submissions-open-for-unwashed-a-bay-view-creative-writing-and-arts-zine/
ATTACH;FMTTYPE=image/png:https://writersforum.org/wp-content/uploads/2024/04/unwashedkerouacmustard.png
ORGANIZER;CN="https%3A//unwashed53207.carrd.co/":MAILTO:unwashed53207@gmail.com
END:VEVENT
BEGIN:VEVENT
DTSTART;VALUE=DATE:20240501
DTEND;VALUE=DATE:20240601
DTSTAMP:20260425T191331
CREATED:20240430T173424Z
LAST-MODIFIED:20240430T173424Z
UID:10000316-1714521600-1717199999@writersforum.org
SUMMARY:Solar Flare contest offers $500 for Fiction\, CNF\, Poetry\, Art\, or Graphic Novel
DESCRIPTION:Sunspot Lit is looking for one work\, including a novel or novella excerpt\, that provides a flare of creative energy. Literary or genre accepted. First prize: $500 plus publication. Open May 1 to May 31. Entry fee: $10 Enter through Submittable: https://sunspotlit.submittable.com/submit/280392/solar-flare-2024-500-for-fiction-cnf-poetry-art-graphic-novel or Duotrope: https://duotrope.com/contest/sunspot-lit-solar-flare-contest-36652.
URL:https://writersforum.org/event/solar-flare-contest-offers-500-for-fiction-cnf-poetry-art-or-graphic-novel/
LOCATION:Online\, NC
ATTACH;FMTTYPE=image/jpeg:https://writersforum.org/wp-content/uploads/2024/04/Sunspot-1.jpg
ORGANIZER;CN="Sunspot Literary Journal":MAILTO:SunspotLit@gmail.com
END:VEVENT
BEGIN:VEVENT
DTSTART;TZID=America/Chicago:20240501T080000
DTEND;TZID=America/Chicago:20240630T170000
DTSTAMP:20260425T191331
CREATED:20240514T171320Z
LAST-MODIFIED:20240514T171320Z
UID:10000320-1714550400-1719766800@writersforum.org
SUMMARY:Submissions Open for the James Baker Hall Book Award
DESCRIPTION:Accents Publishing is honored to partner with the JamesBaker Hall Foundation to launch the James Baker Hall Book Award. The inaugural award will be given in poetry to an emerging author who hasn’t yet published a full-length collection. \nIn 2024\, the award will recognize an unpublished manuscript of over 50 pages by a Kentucky author. The author of the winning manuscript will receive a $3000 award and the manuscript will be published the following year by Accents Publishing\, with the standard Accents Publishing contract. \nManuscripts can be submitted between May 1st and June 30th. \nThere is no submission fee. \nAcclaimed poet Greg Pape will be the final judge. \nFor more details\, please visit https://www.accents-publishing.com/contest.html
URL:https://writersforum.org/event/submissions-open-for-the-james-baker-hall-book-award/
ATTACH;FMTTYPE=image/jpeg:https://writersforum.org/wp-content/uploads/2024/05/JamesBakerHall.webimage.jpg
END:VEVENT
BEGIN:VEVENT
DTSTART;TZID=America/Chicago:20240504T080000
DTEND;TZID=America/Chicago:20240511T170000
DTSTAMP:20260425T191331
CREATED:20240207T181336Z
LAST-MODIFIED:20240207T182807Z
UID:10000232-1714809600-1715446800@writersforum.org
SUMMARY:Go and Write! Retreat to Kingsbrae\, Spring or Autumn—St. Andrews by-the-Sea\, New Brunswick (Canada)
DESCRIPTION:May 4-11 or October 23-30\, 2024. Small group retreats (only 5 rooms). Private\, ensuite bedroom in historic mansion\, private writing studio\, workshops\, written feedback\, and dedicated writing time. All breakfasts and three suppers included.
URL:https://writersforum.org/event/go-and-write-retreat-to-kingsbrae-spring-or-autumn-st-andrews-by-the-sea-new-brunswick-canada/
LOCATION:Kingsbrae Estate\, St. Andrews by-the-Sea\, New Brunswick\, Canada\, New Brunswick\, Canada
ATTACH;FMTTYPE=image/jpeg:https://writersforum.org/wp-content/uploads/2024/02/2023-06-Kingsbrae-Studios-IMG_5712-2-768x576-1.jpg
ORGANIZER;CN="Go and Write!":MAILTO:janiegoandwrite@gmail.com
END:VEVENT
END:VCALENDAR